BEGIN:VCALENDAR
VERSION:2.0
PRODID:-//ChamberMaster//Event Calendar 2.0//EN
METHOD:PUBLISH
X-PUBLISHED-TTL:P3D
REFRESH-INTERVAL:P3D
CALSCALE:GREGORIAN
BEGIN:VEVENT
DTSTART:20260517T000000Z
DTEND:20260517T020000Z
X-MICROSOFT-CDO-ALLDAYEVENT:FALSE
SUMMARY:Nick @ Nite Themed Trivia at Delta Beer Lab
DESCRIPTION:Put the kids to bed and flip that TV back on: Delta Beer Lab is hosting Nick @ Nite Trivia on Saturday\, May 16 from 7 - 9 pm!\n\nMore than just Rugrats and SpongeBob\, Nick @ Nite has been the epicenter of television nostalgia for decades. Whether you're a Nickelodeon classics expert\, a 90's TV buff\, or a fan of vintage throw-back television\, this is the time to bring out your inner late-night screen-time lover!\n\n\n\nGrab your favorite Delta beverage\, and don't worry: We'll get you home with plenty of time to catch that Nite-time TV programming.
X-ALT-DESC;FMTTYPE=text/html:<div class="xdj266r x14z9mp xat24cr x1lziwak x1vvkbs" style="margin-inline: 0px\; overflow-wrap: break-word\; margin-bottom: 0px\; margin-top: 0px\; font-family: &quot\;Segoe UI Historic&quot\;\, &quot\;Segoe UI&quot\;\, Helvetica\, Arial\, sans-serif\; color: rgb(8\, 8\, 9)\; font-size: 15px\;">Put the kids to bed and flip that TV back on: Delta Beer Lab is hosting Nick @ Nite Trivia on Saturday\, May 16 from 7 - 9 pm!</div>\n\n<div class="x14z9mp xat24cr x1lziwak x1vvkbs xtlvy1s" style="margin-inline: 0px\; overflow-wrap: break-word\; margin-bottom: 0px\; margin-top: 0.5em\; font-family: &quot\;Segoe UI Historic&quot\;\, &quot\;Segoe UI&quot\;\, Helvetica\, Arial\, sans-serif\; color: rgb(8\, 8\, 9)\; font-size: 15px\;">More than just Rugrats and SpongeBob\, Nick @ Nite has been the epicenter of television nostalgia for decades. Whether you&#39\;re a Nickelodeon classics expert\, a 90&#39\;s TV buff\, or a fan of vintage throw-back television\, this is the time to bring out your inner late-night screen-time lover!<br />\n<br />\nGrab your favorite Delta beverage\, and don&#39\;t worry: We&#39\;ll get you home with plenty of time to catch that Nite-time TV programming.</div>\n
LOCATION:Delta Beer Lab
UID:e.1970.11325
SEQUENCE:3
DTSTAMP:20260422T133736Z
URL:https://business.fitchburgchamber.com/events/details/nick-nite-themed-trivia-at-delta-beer-lab-11325
END:VEVENT

END:VCALENDAR
