BEGIN:VCALENDAR
VERSION:2.0
PRODID:-//ChamberMaster//Event Calendar 2.0//EN
METHOD:PUBLISH
X-PUBLISHED-TTL:P3D
REFRESH-INTERVAL:P3D
CALSCALE:GREGORIAN
BEGIN:VEVENT
DTSTART:20240101T040000Z
DTEND:20240101T160000Z
X-MICROSOFT-CDO-ALLDAYEVENT:FALSE
SUMMARY:New Years at the Lounge
DESCRIPTION:Join us for an overnight gaming LAN party. $30 entry gets you unlimited PC\, Console\, and VR gaming for the duration of the event. Come play games and enjoy a cold drink while celebrating the new year until the sun rises. Come when you can\, stay as long as you want.
X-ALT-DESC;FMTTYPE=text/html:Join us for an overnight gaming LAN party. $30 entry gets you unlimited PC\, Console\, and VR gaming for the duration of the event. Come play games and enjoy a cold drink while celebrating the new year until the sun rises. Come when you can\, stay as long as you want.&nbsp\;
LOCATION:Isthmian Gaming Lounge 2500 Rimrock Road\, Fitchburg\, WI 53714
UID:e.1970.3234
SEQUENCE:3
DTSTAMP:20260423T082647Z
URL:https://business.fitchburgchamber.com/events/details/new-years-at-the-lounge-3234
END:VEVENT

END:VCALENDAR
