BEGIN:VCALENDAR
VERSION:2.0
PRODID:-//ChamberMaster//Event Calendar 2.0//EN
METHOD:PUBLISH
X-PUBLISHED-TTL:P3D
REFRESH-INTERVAL:P3D
CALSCALE:GREGORIAN
BEGIN:VEVENT
DTSTART:20230514T140000Z
DTEND:20230514T190000Z
X-MICROSOFT-CDO-ALLDAYEVENT:FALSE
SUMMARY:Mother's Day Seedling Social
DESCRIPTION:Join us on Sunday\, May 14th\, 2023 from 9:00 a.m. - 2:00 p.m. for a Mother's Day Seedling Social.  We will have plants for sale from our greenhouse\, mimosas & micheladas (along with soft drinks) for purchase from the bar\, plenty of farm products on hand for you to peruse\, and activities for the little ones.   Admission is free and a wonderful opportunity to explore the farm. \n\n\n\nReservations encouraged\, but not required. \n\nFour Winds staff will be on hand to direct parking.\n\nCash or credit card accepted (there will be a 4% credit card fee per transaction)\n\nWe check everyone's ID for alcohol sales\; please make sure to have your legal ID's ready.
X-ALT-DESC;FMTTYPE=text/html:Join us on Sunday\, May 14th\, 2023 from 9:00 a.m. - 2:00 p.m. for a Mother&#39\;s Day Seedling Social.&nbsp\; We will have plants for sale from our greenhouse\, mimosas &amp\; micheladas (along with soft drinks) for purchase from the bar\, plenty of farm products on hand for you to peruse\, and activities for the little ones.&nbsp\; &nbsp\;Admission is free and a wonderful opportunity to explore the farm.&nbsp\;<br />\n<br />\nReservations encouraged\, but not required.&nbsp\;<br />\nFour Winds staff will be on hand to direct parking.<br />\nCash or credit card accepted (there will be a 4% credit card fee per transaction)<br />\nWe check everyone&#39\;s ID for alcohol sales\; please make sure to have your legal ID&#39\;s ready.<br />\n&nbsp\;
LOCATION:Four Winds Farm 5735 Adams Road\, Fitchburg
UID:e.1970.2848
SEQUENCE:3
DTSTAMP:20260422T222211Z
URL:https://business.fitchburgchamber.com/events/details/mother-s-day-seedling-social-2848
END:VEVENT

END:VCALENDAR
