BEGIN:VCALENDAR
VERSION:2.0
PRODID:-//ChamberMaster//Event Calendar 2.0//EN
METHOD:PUBLISH
X-PUBLISHED-TTL:P3D
REFRESH-INTERVAL:P3D
CALSCALE:GREGORIAN
BEGIN:VEVENT
DTSTART:20260510T143000Z
DTEND:20260510T190000Z
X-MICROSOFT-CDO-ALLDAYEVENT:FALSE
SUMMARY:Mother's Day Brunch at Quivey's Grove
DESCRIPTION:Celebrate Mother's Day\, Sunday\, May 10th at Quivey's Grove!\n\nServing our delicious brunch in The Stable Grill from 9:30am till 2pm or The Stone House from 10am till 2pm. Reservations now available by calling (608) 273-4900 during office hours 10am - 4pm\, Tuesday through Saturday.\n\nCredit card required to book.
X-ALT-DESC;FMTTYPE=text/html:<p><span style="font-size:14px\;"><span style="font-family:arial\;"><span id="docs-internal-guid-acdc9c2c-7fff-c2ac-2b23-0c8743a1cd81"><span style="color: rgb(0\, 0\, 0)\; background-color: transparent\; font-variant: normal\; vertical-align: baseline\; white-space: pre-wrap\;">Celebrate Mother&#39\;s Day\, Sunday\, May 10th at Quivey&#39\;s Grove!<br />\nServing our delicious brunch in The Stable Grill from 9:30am till 2pm or The Stone House from 10am till 2pm. Reservations now available by calling (608) 273-4900 during office hours 10am - 4pm\, Tuesday through Saturday.<br />\nCredit card required to book.</span></span></span></span></p>\n
LOCATION:Quivey's Grove
UID:e.1970.11321
SEQUENCE:3
DTSTAMP:20260424T192214Z
URL:https://business.fitchburgchamber.com/events/details/mother-s-day-brunch-at-quivey-s-grove-11321
END:VEVENT

END:VCALENDAR
