BEGIN:VCALENDAR
VERSION:2.0
PRODID:-//ChamberMaster//Event Calendar 2.0//EN
METHOD:PUBLISH
X-PUBLISHED-TTL:P3D
REFRESH-INTERVAL:P3D
CALSCALE:GREGORIAN
BEGIN:VEVENT
DTSTART:20230624T160000Z
DTEND:20230624T200000Z
X-MICROSOFT-CDO-ALLDAYEVENT:FALSE
SUMMARY:MIDWEST COMFORT FOOD FESTIVAL
DESCRIPTION:MIDWEST COMFORT FOOD FESTIVAL\n\n\n\nSaturday\, June 24 from 11AM-3PM\n\non the Seven Acre grounds in Paoli\, Wisconsin.\n\n\n\nTime to get comfortable!\n\n\n\nThe Festival will showcase a celebrated line up of chefs\, who will be preparing dishes that reflect what comfort food means to them.\n\n\n\nChefs include:\n\n\n\nDan Cornelius (Yowela Farms)\n\nYusuf Bin-Rella\, (Trade Roots)\n\nDavid Rodriguez (Taco Local)\n\nFrancesca Hong and Matt Morris (Morris Ramen)\n\nBen Hunter and Kyle Kiepert (Seven Acre)\n\nYia Vang (Hmong Union Kitchen)\n\n\n\nWith dessert booth provided by Seven Acre Dairy Company.\n\n\n\nGuests will also enjoy booths from local artists &\n\nmusic from Down From The Hills Bluegrass band.\n\n\n\nTickets for this event are $60 + taxes & fees.\n\nChildren under 12 are free!\n\n\n\nTickets for the event includes entrance to the event\, live music\, art\, and a comfort food dish from all 6 chefs\, plus dessert! Enjoy two cash bars where alcoholic and NA beverages will be available for purchase\, & a retail area with Midwest Comfort Food Festival art and merchandise.\n\n\n\nBUY TICKETS\n\n\n\nThe Midwest Comfort Food Festival is an outdoor event\,\n\nand will be held rain or shine. Covered outdoor seating provided.
X-ALT-DESC;FMTTYPE=text/html:MIDWEST COMFORT FOOD FESTIVAL<br />\n<br />\nSaturday\, June 24 from 11AM-3PM<br />\non the Seven Acre grounds in Paoli\, Wisconsin.<br />\n<br />\nTime to get comfortable!<br />\n<br />\nThe Festival will showcase a celebrated line up of chefs\, who will be preparing dishes that reflect what comfort food means to them.<br />\n<br />\nChefs include:<br />\n<br />\nDan Cornelius (Yowela Farms)<br />\nYusuf Bin-Rella\, (Trade Roots)<br />\nDavid Rodriguez (Taco Local)<br />\nFrancesca Hong and Matt Morris (Morris Ramen)<br />\nBen Hunter and Kyle Kiepert (Seven Acre)<br />\nYia Vang (Hmong Union Kitchen)<br />\n<br />\nWith dessert booth provided by Seven Acre Dairy Company.<br />\n<br />\nGuests will also enjoy booths from local artists &amp\;<br />\nmusic from Down From The Hills Bluegrass band.<br />\n<br />\nTickets for this event are $60 + taxes &amp\; fees.<br />\nChildren under 12 are free!<br />\n<br />\nTickets for the event includes entrance to the event\, live music\, art\, and a comfort food dish from all 6 chefs\, plus dessert! Enjoy two cash bars where alcoholic and NA beverages will be available for purchase\, &amp\; a retail area with Midwest Comfort Food Festival art and merchandise.<br />\n<br />\nBUY TICKETS<br />\n<br />\nThe Midwest Comfort Food Festival is an outdoor event\,<br />\nand will be held rain or shine. Covered outdoor seating provided.
LOCATION:6858 PAOLI RD. BELLEVILLE\, WI
UID:e.1970.3075
SEQUENCE:3
DTSTAMP:20260423T000152Z
URL:https://business.fitchburgchamber.com/events/details/midwest-comfort-food-festival-3075
END:VEVENT

END:VCALENDAR
