BEGIN:VCALENDAR
VERSION:2.0
PRODID:-//ChamberMaster//Event Calendar 2.0//EN
METHOD:PUBLISH
X-PUBLISHED-TTL:P3D
REFRESH-INTERVAL:P3D
CALSCALE:GREGORIAN
BEGIN:VEVENT
DTSTART:20221117T180000Z
DTEND:20221117T184500Z
X-MICROSOFT-CDO-ALLDAYEVENT:FALSE
SUMMARY:Member Event: The Family Love Letter
DESCRIPTION:Capital Wealth Advisory Group\, a private wealth advisory practice of Ameriprise Financial Services\, LLC \n\nThe Family Love Letter\n\n \n\nKaren Drancik will be joining us to share more about how to prepare for the unexpected.  She'll lead an informative discussion that will focus on anticipating the unexpected\, while creating an effective plan for a sound future for your loved ones. You will learn the answers to the following questions and more\, by attending this event:\n\n  What do you have today?\n\n  Where is it located?\n\n  Who do you contact?\n\n \n\nPresented by Karen Drancik\, Senior VP\, Neuberger Berman\n\n \n\nPlease call:  1-844-621-3956    Meeting Number (Access Code):  2497 622 4687#\n\n \n\nClick here to join the WebEx\n\n \n\nPassword:  Seminar1!\n\n  \n\nPlease plan to call the toll-free number to hear the speaker and join the WebEx event online to view the slides using the login details. WebEx may prompt you to install or activate a plug-in to view the meeting.  \n\nThank you in advance for entering your name and email address to attend.
X-ALT-DESC;FMTTYPE=text/html:<a href="https://www.ameripriseadvisors.com/team/capital-wealth-advisory-group/?cid=IP_local_google">Capital Wealth Advisory Group\, a&nbsp\;private wealth advisory practice of Ameriprise Financial Services\, LLC&nbsp\;</a><br />\n<i>The Family Love Letter</i><br />\n&nbsp\;\n<div style="text-align: center\;">\n<div>Karen Drancik will be joining us to share more about how to prepare for the unexpected.&nbsp\; She&rsquo\;ll lead an informative discussion that will focus on anticipating the unexpected\, while creating an effective plan for a sound future for your loved ones. You will learn the answers to the following questions and more\, by attending this event:</div>\n\n<div>&bull\;<span style="white-space:pre"> </span>What do you have today?</div>\n\n<div>&bull\;<span style="white-space:pre"> </span>Where is it located?</div>\n\n<div>&bull\;<span style="white-space:pre"> </span>Who do you contact?</div>\n\n<div>&nbsp\;</div>\n\n<div><strong>Presented by Karen Drancik\, Senior VP\, Neuberger Berman</strong></div>\n\n<div>&nbsp\;</div>\n\n<div><strong>Please call:&nbsp\; 1-844-621-3956&nbsp\; &nbsp\; Meeting Number (Access Code):&nbsp\; 2497 622 4687#</strong></div>\n\n<div>&nbsp\;</div>\n\n<div><strong><a href="https://ampfadvisors.webex.com/ampfadvisors/j.php?MTID=m0dc9101530730ff02ab25e50a8567340">Click here to join the WebEx</a></strong></div>\n\n<div>&nbsp\;</div>\n\n<div><strong>Password:&nbsp\; Seminar1!</strong></div>\n\n<div>&nbsp\;&nbsp\;</div>\n\n<div>Please plan to call the toll-free number to hear the speaker and join the WebEx event online to view the slides using the login details. WebEx may prompt you to install or activate a plug-in to view the meeting.&nbsp\;&nbsp\;</div>\n\n<div>Thank you in advance for entering your name and email address to attend.</div>\n</div>\n
LOCATION:
UID:e.1970.2084
SEQUENCE:3
DTSTAMP:20260422T122249Z
URL:https://business.fitchburgchamber.com/events/details/member-event-the-family-love-letter-2084
END:VEVENT

END:VCALENDAR
