BEGIN:VCALENDAR
VERSION:2.0
PRODID:-//ChamberMaster//Event Calendar 2.0//EN
METHOD:PUBLISH
X-PUBLISHED-TTL:P3D
REFRESH-INTERVAL:P3D
CALSCALE:GREGORIAN
BEGIN:VEVENT
DTSTART:20230817T170000Z
DTEND:20230817T174500Z
X-MICROSOFT-CDO-ALLDAYEVENT:FALSE
SUMMARY:Member Event: Keeping More of What you Earn
DESCRIPTION:2023 SEMINAR SERIES: Keeping More of What you Earn\n\n \n\n \n\nThursday\, August 17th\n\n12-12:45 p.m. Central Time\n\n \n\nHosted by: Capital Wealth Advisory Group\n\nA private wealth advisory practice of Ameriprise Financial Services\, LLC \n\n \n\nDuring this complimentary session\, we'll discuss strategies that may help keep more money in your pocket by using tax-free investing as part of your portfolio. We'll address \n\n  Municipal (muni) bonds\n\n  Why you may consider investing in a tax-free income fund\n\n \n\nPresented by \n\nTom Antonovich\, VP\, Senior Advisor Consultant\, Franklin Templeton\n\nand \n\nTim Nichols\, VP\, Senior Advisor Consultant\, Franklin Templeton\n\n \n\n \n\nPlease call:  1-844-621-3956    Meeting Number (Access Code):  2486 643 6401#\n\n \n\nClick here to join!\n\n \n\nPassword:  Seminar1!\n\n  \n\nPlease plan to call the toll-free number to hear the speaker and join the WebEx event online to view the slides using the login details. WebEx may prompt you to install or activate a plug-in to view the meeting.  \n\nThank you in advance for entering your name and email address to attend.\n\n \n\nThis is an informational seminar. There is no cost or obligation. \n\nFranklin Templeton and its representatives are not affiliated with Ameriprise Financial.\n\nInvestment products are not insured by the FDIC\, NCUA or any federal agency\, are not deposits or obligations of\, or guaranteed by any financial institution\, and involve investment risks including possible loss of principal and fluctuation in value.\n\nInvestors should consider the investment objectives\, risks\, charges and expenses of mutual funds carefully before investing. Investors can obtain a prospectus from their financial professional or the issuing investment company. The prospectus contains this and other important information and should be read carefully before investing.\n\nIncome from tax-exempt municipal bonds or municipal bond funds may be subject to state and local taxes\, and a portion of income may be subject to the federal and/or state alternative minimum tax for certain investors. Federal and state income tax rules will apply to any capital gains.  \n\nAmeriprise Financial\, Inc. and its affiliates do not offer tax or legal advice. Consumers should consult with their tax advisor or attorney regarding their specific situation.\n\nAmeriprise Financial Services\, LLC. Member FINRA and SIPC. \n\n  2023 Ameriprise Financial\, Inc. All rights reserved. 5354638ACMR0123
X-ALT-DESC;FMTTYPE=text/html:<div><strong>2023 SEMINAR SERIES: Keeping More of What you Earn</strong></div>\n\n<div>&nbsp\;</div>\n\n<div>&nbsp\;</div>\n\n<div>Thursday\, August 17th</div>\n\n<div>12-12:45 p.m. Central Time</div>\n\n<div>&nbsp\;</div>\n\n<div>Hosted by: Capital Wealth Advisory Group</div>\n\n<div>A private wealth advisory practice of Ameriprise Financial Services\, LLC&nbsp\;</div>\n\n<div>&nbsp\;</div>\n\n<div>During this complimentary session\, we&rsquo\;ll discuss strategies that may help keep more money in your pocket by using tax-free investing as part of your portfolio. We&rsquo\;ll address&nbsp\;</div>\n\n<div>&bull\;<span style="white-space:pre"> </span>Municipal (muni) bonds</div>\n\n<div>&bull\;<span style="white-space:pre"> </span>Why you may consider investing in a tax-free income fund</div>\n\n<div>&nbsp\;</div>\n\n<div>Presented by&nbsp\;</div>\n\n<div>Tom Antonovich\, VP\, Senior Advisor Consultant\, Franklin Templeton</div>\n\n<div>and&nbsp\;</div>\n\n<div>Tim Nichols\, VP\, Senior Advisor Consultant\, Franklin Templeton</div>\n\n<div>&nbsp\;</div>\n\n<div>&nbsp\;</div>\n\n<div>Please call:&nbsp\; 1-844-621-3956&nbsp\; &nbsp\; Meeting Number (Access Code):&nbsp\; 2486 643 6401#</div>\n\n<div>&nbsp\;</div>\n\n<div><a href="https://ampfadvisors.webex.com/ampfadvisors/j.php?MTID=md00c06b60541557cde1c32f757b60f7b">Click here to join!</a></div>\n\n<div>&nbsp\;</div>\n\n<div>Password:&nbsp\; Seminar1!</div>\n\n<div>&nbsp\;&nbsp\;</div>\n\n<div>Please plan to call the toll-free number to hear the speaker and join the WebEx event online to view the slides using the login details. WebEx may prompt you to install or activate a plug-in to view the meeting.&nbsp\;&nbsp\;</div>\n\n<div>Thank you in advance for entering your name and email address to attend.</div>\n\n<div>&nbsp\;</div>\n\n<div>This is an informational seminar. There is no cost or obligation.&nbsp\;</div>\n\n<div>Franklin Templeton and its representatives are not affiliated with Ameriprise Financial.</div>\n\n<div>Investment products are not insured by the FDIC\, NCUA or any federal agency\, are not deposits or obligations of\, or guaranteed by any financial institution\, and involve investment risks including possible loss of principal and fluctuation in value.</div>\n\n<div>Investors should consider the investment objectives\, risks\, charges and expenses of mutual funds carefully before investing. Investors can obtain a prospectus from their financial professional or the issuing investment company. The prospectus contains this and other important information and should be read carefully before investing.</div>\n\n<div>Income from tax-exempt municipal bonds or municipal bond funds may be subject to state and local taxes\, and a portion of income may be subject to the federal and/or state alternative minimum tax for certain investors. Federal and state income tax rules will apply to any capital gains.&nbsp\;&nbsp\;</div>\n\n<div>Ameriprise Financial\, Inc. and its affiliates do not offer tax or legal advice. Consumers should consult with their tax advisor or attorney regarding their specific situation.</div>\n\n<div>Ameriprise Financial Services\, LLC. Member FINRA and SIPC.&nbsp\;</div>\n\n<div>&copy\; 2023 Ameriprise Financial\, Inc. All rights reserved. 5354638ACMR0123</div>\n
LOCATION:
UID:e.1970.2840
SEQUENCE:3
DTSTAMP:20260423T014810Z
URL:https://business.fitchburgchamber.com/events/details/member-event-keeping-more-of-what-you-earn-2840
END:VEVENT

END:VCALENDAR
