BEGIN:VCALENDAR
VERSION:2.0
PRODID:-//ChamberMaster//Event Calendar 2.0//EN
METHOD:PUBLISH
X-PUBLISHED-TTL:P3D
REFRESH-INTERVAL:P3D
CALSCALE:GREGORIAN
BEGIN:VEVENT
DTSTART:20260328T173000Z
DTEND:20260328T193000Z
X-MICROSOFT-CDO-ALLDAYEVENT:FALSE
SUMMARY:Meat Raffle with Aldo Leopold Nature Center
DESCRIPTION:Mark your calendar and come on out to help us raise money\, and of course\, hopefully win some meat. Join us on Saturday\, March 28 to benefit a partner that's doing important work in our community\, Aldo Leopold Nature Center.\n\n\n\nThrough outdoor\, hands-on\, childcare programs\, Aldo Leopold Nature Center (ALNC) is leading the way to engage\, educate\, and empower the next generation of stewards of the land for a healthy\, happy\, and sustainable future.\n\n\n\nMeat provided by Knoche's Meat Market. The last round of the afternoon will include a 50/50 raffle!!
X-ALT-DESC;FMTTYPE=text/html:Mark your calendar and come on out to help us raise money\, and of course\, hopefully win some meat.&nbsp\;Join us on Saturday\, March 28 to benefit a partner that&#39\;s doing important work in our community\, Aldo Leopold Nature Center.<br />\n<br />\nThrough outdoor\, hands-on\, childcare programs\, Aldo Leopold Nature Center (ALNC) is leading the way to engage\, educate\, and empower the next generation of stewards of the land for a healthy\, happy\, and sustainable future.<br />\n<br />\nMeat provided by Knoche&#39\;s Meat Market. The last round of the afternoon will include a 50/50 raffle!!
LOCATION:Delta Beer Lab 167 E Badger Rd Fitchburg\, WI 53713
UID:e.1970.11253
SEQUENCE:3
DTSTAMP:20260424T210330Z
URL:https://business.fitchburgchamber.com/events/details/meat-raffle-with-aldo-leopold-nature-center-11253
END:VEVENT

END:VCALENDAR
