BEGIN:VCALENDAR
VERSION:2.0
PRODID:-//ChamberMaster//Event Calendar 2.0//EN
METHOD:PUBLISH
X-PUBLISHED-TTL:P3D
REFRESH-INTERVAL:P3D
CALSCALE:GREGORIAN
BEGIN:VEVENT
DTSTART:20231028T200000Z
DTEND:20231028T220000Z
X-MICROSOFT-CDO-ALLDAYEVENT:FALSE
SUMMARY:Meat Raffle
DESCRIPTION:Join us for a meat raffle and other fun raffles! Proceeds raised are donated to VFW Post 1318
X-ALT-DESC;FMTTYPE=text/html:Join us for a meat raffle and other fun raffles! Proceeds raised are donated to VFW Post 1318
LOCATION:VFW Post 1318\, 2740 Ski Lane
UID:e.1970.3141
SEQUENCE:3
DTSTAMP:20260423T050824Z
URL:https://business.fitchburgchamber.com/events/details/meat-raffle-10-28-2023-3141
END:VEVENT

END:VCALENDAR
