BEGIN:VCALENDAR
VERSION:2.0
PRODID:-//ChamberMaster//Event Calendar 2.0//EN
METHOD:PUBLISH
X-PUBLISHED-TTL:P3D
REFRESH-INTERVAL:P3D
CALSCALE:GREGORIAN
BEGIN:VEVENT
DTSTART:20240127T210000Z
DTEND:20240127T230000Z
X-MICROSOFT-CDO-ALLDAYEVENT:FALSE
SUMMARY:Meat Raffle
DESCRIPTION:Join us for a fun meat raffle. 4th Saturday of the month from 3-5 pm
X-ALT-DESC;FMTTYPE=text/html:Join us for a fun meat raffle. 4th Saturday of the month from 3-5 pm
LOCATION:VFW Post 1318 2740 Ski Lane
UID:e.1970.3282
SEQUENCE:3
DTSTAMP:20260423T101017Z
URL:https://business.fitchburgchamber.com/events/details/meat-raffle-01-27-2024-3282
END:VEVENT

END:VCALENDAR
