BEGIN:VCALENDAR
VERSION:2.0
PRODID:-//ChamberMaster//Event Calendar 2.0//EN
METHOD:PUBLISH
X-PUBLISHED-TTL:P3D
REFRESH-INTERVAL:P3D
CALSCALE:GREGORIAN
BEGIN:VEVENT
DTSTART:20260315T174500Z
DTEND:20260315T220000Z
X-MICROSOFT-CDO-ALLDAYEVENT:FALSE
SUMMARY:Meat & Cheese Raffle + Julie O’Roper’s Irish Shenanigans
DESCRIPTION:Join us for our Annual Meat & Cheese Raffle on Sunday\, March 15th!\n\nThe talented Trinity Irish Dancers will perform at 12:45PM\, with the Meat Raffle kicking off at 1:00PM!\n\nHosted by our favorite lass\, Julie Jo Collins Roper   aka Julie O'Roper   bringing the limericks\, laughs\, and plenty of Irish shenanigans.\n\nWe'll be raffling off fantastic meat and cheese packages from Miller & Sons Supermarket and Silver & Lewis Cheese Factory   so grab a beer\, buy a paddle\, and try your luck!\n\nPlus: a specialty brew AND green beer to keep the Irish spirit flowing.\n\nCome thirsty. Come lucky.\n\nMay the luck of the Irish be with you   we'll see you there!
X-ALT-DESC;FMTTYPE=text/html:<p>Join us for our Annual Meat &amp\; Cheese Raffle on Sunday\, March 15th!</p>\n\n<p>The talented Trinity Irish Dancers will perform at 12:45PM\, with the Meat Raffle kicking off at 1:00PM!</p>\n\n<p>Hosted by our favorite lass\, Julie Jo Collins Roper &mdash\; aka Julie O&rsquo\;Roper &mdash\; bringing the limericks\, laughs\, and plenty of Irish shenanigans.</p>\n\n<p>We&rsquo\;ll be raffling off fantastic meat and cheese packages from Miller &amp\; Sons Supermarket and Silver &amp\; Lewis Cheese Factory &mdash\; so grab a beer\, buy a paddle\, and try your luck!</p>\n\n<p>Plus: a specialty brew AND green beer to keep the Irish spirit flowing.</p>\n\n<p>Come thirsty. Come lucky.<br />\nMay the luck of the Irish be with you &mdash\; we&rsquo\;ll see you there!</p>\n
LOCATION:
UID:e.1970.11246
SEQUENCE:3
DTSTAMP:20260424T193538Z
URL:https://business.fitchburgchamber.com/events/details/meat-cheese-raffle-julie-o-roper-s-irish-shenanigans-11246
END:VEVENT

END:VCALENDAR
