BEGIN:VCALENDAR
VERSION:2.0
PRODID:-//ChamberMaster//Event Calendar 2.0//EN
METHOD:PUBLISH
X-PUBLISHED-TTL:P3D
REFRESH-INTERVAL:P3D
CALSCALE:GREGORIAN
BEGIN:VEVENT
DTSTART:20260502T220000Z
DTEND:20260503T020000Z
X-MICROSOFT-CDO-ALLDAYEVENT:FALSE
SUMMARY:May Art Gallery Meet and Greet at Delta Beer Lab
DESCRIPTION:Delta is proud to present our next Art Gallery installation! We will choose different artists from the community to highlight and showcase in our new gallery space. Join us for the Artist Meet and Greet Presentation event and peruse the gallery all month!\n\nJoin us on Saturday\, May 2 from 5-9pm for our next gallery showing. They will be in the brewery for a meet and greet and reception. Live music included in the event.\n\n****\n\nThis month\, we're featuring not one but FIVE artists from UW Madison. Read more about each HERE.
X-ALT-DESC;FMTTYPE=text/html:<div class="xdj266r x14z9mp xat24cr x1lziwak x1vvkbs" style="margin-inline: 0px\; overflow-wrap: break-word\; margin-bottom: 0px\; margin-top: 0px\; font-family: &quot\;Segoe UI Historic&quot\;\, &quot\;Segoe UI&quot\;\, Helvetica\, Arial\, sans-serif\; color: rgb(8\, 8\, 9)\; font-size: 15px\;">Delta is proud to present our next Art Gallery installation! We will choose different artists from the community to highlight and showcase in our new gallery space. Join us for the Artist Meet and Greet Presentation event and peruse the gallery all month!</div>\n\n<div class="x14z9mp xat24cr x1lziwak x1vvkbs xtlvy1s" style="margin-inline: 0px\; overflow-wrap: break-word\; margin-bottom: 0px\; margin-top: 0.5em\; font-family: &quot\;Segoe UI Historic&quot\;\, &quot\;Segoe UI&quot\;\, Helvetica\, Arial\, sans-serif\; color: rgb(8\, 8\, 9)\; font-size: 15px\;">Join us on Saturday\, May 2 from 5-9pm for our next gallery showing. They will be in the brewery for a meet and greet and reception. Live music included in the event.</div>\n\n<div class="x14z9mp xat24cr x1lziwak x1vvkbs xtlvy1s" style="margin-inline: 0px\; overflow-wrap: break-word\; margin-bottom: 0px\; margin-top: 0.5em\; font-family: &quot\;Segoe UI Historic&quot\;\, &quot\;Segoe UI&quot\;\, Helvetica\, Arial\, sans-serif\; color: rgb(8\, 8\, 9)\; font-size: 15px\;">****<br class="html-br" />\nThis month\, we&#39\;re featuring not one but FIVE artists from UW Madison. Read more about each <strong><a href="https://www.facebook.com/events/1898055547573633">HERE</a></strong>.</div>\n
LOCATION:Delta Beer Lab
UID:e.1970.11324
SEQUENCE:3
DTSTAMP:20260422T133530Z
URL:https://business.fitchburgchamber.com/events/details/may-art-gallery-meet-and-greet-at-delta-beer-lab-11324
END:VEVENT

END:VCALENDAR
