BEGIN:VCALENDAR
VERSION:2.0
PRODID:-//ChamberMaster//Event Calendar 2.0//EN
METHOD:PUBLISH
X-PUBLISHED-TTL:P3D
REFRESH-INTERVAL:P3D
CALSCALE:GREGORIAN
BEGIN:VEVENT
DTSTART:20220301T223000Z
DTEND:20220302T013000Z
X-MICROSOFT-CDO-ALLDAYEVENT:FALSE
SUMMARY:Mardi Gras at Liliana's
DESCRIPTION:Celebrate Mardi Gras with Liliana's! Their Tuesday Tastings menu is available from 4:30pm-7:30pm for dine-in or carryout. Three delicious courses for only $35! \n\n\n\n1st Course\n\nMini Muffaletta on house made buns with mortadella\, salami\, ham\, olive salad\, and provolone cheese\n\nEntr e\n\nJambalaya with shrimp\, andouille\, and tasso ham in a spicy tomato and pepper sauce over rice\n\nDessert\n\nBananas foster with bananas flamb ed in rum and butter\, served with vanilla ice cream
X-ALT-DESC;FMTTYPE=text/html:Celebrate Mardi Gras with Liliana&rsquo\;s! Their Tuesday Tastings menu is available from 4:30pm-7:30pm for dine-in or carryout. Three delicious courses for only $35!&nbsp\;<br />\n<br />\n<u>1st Course</u><br />\nMini Muffaletta on house made buns with mortadella\, salami\, ham\, olive salad\, and provolone cheese<br />\n<u>Entr&eacute\;e</u><br />\nJambalaya with shrimp\, andouille\, and tasso ham in a spicy tomato and pepper sauce over rice<br />\n<u>Dessert</u><br />\nBananas foster with bananas flamb&eacute\;ed in rum and butter\, served with vanilla ice cream
LOCATION:Liliana's Restaurant 2951 Triverton Pike Drive\, Fitchburg
UID:e.1970.1612
SEQUENCE:3
DTSTAMP:20260419T231224Z
URL:https://business.fitchburgchamber.com/events/details/mardi-gras-at-liliana-s-1612
END:VEVENT

END:VCALENDAR
