BEGIN:VCALENDAR
VERSION:2.0
PRODID:-//ChamberMaster//Event Calendar 2.0//EN
METHOD:PUBLISH
X-PUBLISHED-TTL:P3D
REFRESH-INTERVAL:P3D
CALSCALE:GREGORIAN
BEGIN:VEVENT
DTSTART:20230729T200000Z
DTEND:20230730T000000Z
X-MICROSOFT-CDO-ALLDAYEVENT:FALSE
SUMMARY:Make Rye Not War Rye Lager Collab Party at Delta Beer Lab
DESCRIPTION:Back in May\, we brewed a rye lager with our good friends at Stalzy's Deli and Bakery - what's a rye lager you ask? Well\, this medium bodied lager pours deep copper and features aromas of toast\, toffee\, and figs. Its medium to low bitterness is accentuated by a rye spiciness\, balanced by a graham cracker malt profile\, and finishes dry.\n\n\n\nJoin us on Saturday\, July 29 from 3-7pm to celebrate this collaboration:\n\n\n\n+ Stalzy's will be on site providing delicious menu options to purchase for a late lunch / early dinner / mid-afternoon snack / tea time...\n\n+ Tunes playing outside as well as inside.\n\n+ The taps will be flowing inside with not only the Rye Lager (LAG.05) but 14 other options. There are also n/a and gluten free beer options\, craft soda\, kombucha\, and seltzers...\n\nSee you Saturday!
X-ALT-DESC;FMTTYPE=text/html:Back in May\, we brewed a rye lager with our good friends at Stalzy&#39\;s Deli and Bakery - what&#39\;s a rye lager you ask? Well\, this medium bodied lager pours deep copper and features aromas of toast\, toffee\, and figs. Its medium to low bitterness is accentuated by a rye spiciness\, balanced by a graham cracker malt profile\, and finishes dry.<br />\n<br />\nJoin us on Saturday\, July 29 from 3-7pm to celebrate this collaboration:<br />\n<br />\n+ Stalzy&#39\;s will be on site providing delicious menu options to purchase for a late lunch / early dinner / mid-afternoon snack / tea time...<br />\n+ Tunes playing outside as well as inside.<br />\n+ The taps will be flowing inside with not only the Rye Lager (LAG.05) but 14 other options. There are also n/a and gluten free beer options\, craft soda\, kombucha\, and seltzers...<br />\nSee you Saturday!
LOCATION:Delta Beer Lab 167 E Badger Rd Madison\, WI 53713
UID:e.1970.3102
SEQUENCE:3
DTSTAMP:20260423T002114Z
URL:https://business.fitchburgchamber.com/events/details/make-rye-not-war-rye-lager-collab-party-at-delta-beer-lab-3102
END:VEVENT

END:VCALENDAR
