BEGIN:VCALENDAR
VERSION:2.0
PRODID:-//ChamberMaster//Event Calendar 2.0//EN
METHOD:PUBLISH
X-PUBLISHED-TTL:P3D
REFRESH-INTERVAL:P3D
CALSCALE:GREGORIAN
BEGIN:VEVENT
DTSTART:20211023T200000Z
DTEND:20211024T010000Z
X-MICROSOFT-CDO-ALLDAYEVENT:FALSE
SUMMARY:Madison Makers Halloween Market
DESCRIPTION:This is a Costume-Friendly event!\n\nFor those of you not in the know\, Delta Beer Lab is a small\, ambitious brewery in Fitchburg that's been fighting the good fight for a while.\n\nBetween raising money for causes they support to brewing and self-distributing beers that would be impressive for any legacy brewer\, DBL have been working hard since before the pandemic\, and I think they deserve some love.\n\nSo why not cart a bunch of local crafters and a few food trucks out there to have some fun this Fall?\n\nThis small event will\, like other MMM events feature a highly curated selection of local artisans and be hosted by a popular local establishment.\n\nVENDORS ANNOUNCED!\n\nRat Brats - art/prints\n\nHill Valley Workshop - home decor\n\nVicki Cookies - cookies\n\nCrafted. - Home Decor\n\nMemento Moira - Everything\n\nPB and Junk - Ceramics/Pottery\n\nLittle Sparks Candle Co - Candles\n\nTL Luke Art - Art/Prints\n\nThe Artistry Studio - Everything\n\nDoppel Stitch - Art/Prints\, Accessories\n\n51 Tulips - Crocheted Goods\n\nJonie and Libs - Home Goods\n\nHeather Tatarek Landscapes - Art/Prints\n\nWashboard Press - Art/Prints\, Cards\n\nBroadside Print & Design - Everything
X-ALT-DESC;FMTTYPE=text/html:This is a Costume-Friendly event!<br />\nFor those of you not in the know\, Delta Beer Lab is a small\, ambitious brewery in Fitchburg that&#39\;s been fighting the good fight for a while.<br />\nBetween raising money for causes they support to brewing and self-distributing beers that would be impressive for any legacy brewer\, DBL have been working hard since before the pandemic\, and I think they deserve some love.<br />\nSo why not cart a bunch of local crafters and a few food trucks out there to have some fun this Fall?<br />\nThis small event will\, like other MMM events feature a highly curated selection of local artisans and be hosted by a popular local establishment.<br />\nVENDORS ANNOUNCED!<br />\nRat Brats - art/prints<br />\nHill Valley Workshop - home decor<br />\nVicki Cookies - cookies<br />\nCrafted. - Home Decor<br />\nMemento Moira - Everything<br />\nPB and Junk - Ceramics/Pottery<br />\nLittle Sparks Candle Co - Candles<br />\nTL Luke Art - Art/Prints<br />\nThe Artistry Studio - Everything<br />\nDoppel Stitch - Art/Prints\, Accessories<br />\n51 Tulips - Crocheted Goods<br />\nJonie and Libs - Home Goods<br />\nHeather Tatarek Landscapes - Art/Prints<br />\nWashboard Press - Art/Prints\, Cards<br />\nBroadside Print &amp\; Design - Everything
LOCATION:Delta Beer Lab 167 E. Badger Road\, Madison
UID:e.1970.1372
SEQUENCE:3
DTSTAMP:20260419T144854Z
URL:https://business.fitchburgchamber.com/events/details/madison-makers-halloween-market-1372
END:VEVENT

END:VCALENDAR
