BEGIN:VCALENDAR
VERSION:2.0
PRODID:-//ChamberMaster//Event Calendar 2.0//EN
METHOD:PUBLISH
X-PUBLISHED-TTL:P3D
REFRESH-INTERVAL:P3D
CALSCALE:GREGORIAN
BEGIN:VEVENT
DTSTART:20230408T200000Z
DTEND:20230409T010000Z
X-MICROSOFT-CDO-ALLDAYEVENT:FALSE
SUMMARY:Madison Makers Delta Market
DESCRIPTION:Come check out the first Madison Makers Delta Market of 2023! We have tons of fun planned for you this year and we can't wait to get started!\n\nExperience quality local beer\, delicious local food and incredible artists and artisan goods like you can only find in Madison!\n\nhttps://www.madisonmakersmarket.com/deltamarkets
X-ALT-DESC;FMTTYPE=text/html:Come check out the first Madison Makers Delta Market of 2023! We have tons of fun planned for you this year and we can&#39\;t wait to get started!<br />\nExperience quality local beer\, delicious local food and incredible artists and artisan goods like you can only find in Madison!<br />\nhttps://www.madisonmakersmarket.com/deltamarkets
LOCATION:Delta Beer Lab 167 E. Badger Road\, Madison
UID:e.1970.2796
SEQUENCE:3
DTSTAMP:20260422T203053Z
URL:https://business.fitchburgchamber.com/events/details/madison-makers-delta-market-2796
END:VEVENT

END:VCALENDAR
