BEGIN:VCALENDAR
VERSION:2.0
PRODID:-//ChamberMaster//Event Calendar 2.0//EN
METHOD:PUBLISH
X-PUBLISHED-TTL:P3D
REFRESH-INTERVAL:P3D
CALSCALE:GREGORIAN
BEGIN:VEVENT
DTSTART:20231018T163000Z
DTEND:20231018T180000Z
X-MICROSOFT-CDO-ALLDAYEVENT:FALSE
SUMMARY:Business Owners: Does it feel like you're juggling bowling balls?
DESCRIPTION:Calling out to passionate business owners!\n\nDoes it ever feel like you're juggling bowling balls?\n\nHaving to manage too much at once?\n\nWe're here to say that it's possible to simplify your workload AND see your business thrive at the same time.\n\nImagine a lighter load\, where you aren't constantly juggling all those growing responsibilities.\n\nWith the right strategies and systems in place\, you can build a business that doesn't depend on you making time for every single thing that comes up.\n\nAt Lunch & Learn\, we delve into key methods to help business owners reclaim time and guide their businesses toward reliable success. Take some time over your afternoon and join us at the Chisel office in McFarland    where we'll cover real steps to bring your business to its highest potential.\n\nDon't miss out on the chance to gain crucial insight for simplifying your business    while still growing your success\, fostering a great team\, and delivering exceptional service.\n\nRegister for Lunch & Learn today and take charge of your business!
X-ALT-DESC;FMTTYPE=text/html:<p><span style="font-family:comic sans ms"><span style="font-size:16px"><em><strong><span style="color:#333399">Calling out to passionate business owners!</span></strong></em></span></span></p>\n\n<p><span style="font-family:comic sans ms"><span style="font-size:16px"><em><strong><span style="color:#333399">Does it ever feel like you&#39\;re juggling bowling balls?</span></strong></em></span></span></p>\n\n<p><span style="font-family:comic sans ms"><span style="font-size:16px"><em><strong><span style="color:#333399">Having to manage too much at once?</span></strong></em></span></span></p>\n\n<p>We&#39\;re here to say that it&#39\;s possible to simplify your workload AND see your business thrive at the same time.</p>\n\n<p>Imagine a lighter load\, where you aren&#39\;t constantly juggling all those growing responsibilities.</p>\n\n<p>With the right strategies and systems in place\, you can build a business that doesn&#39\;t depend on you making time for every single thing that comes up.</p>\n\n<p>At Lunch &amp\; Learn\, we delve into key methods to help business owners reclaim time and guide their businesses toward reliable success. Take some time over your afternoon and join us at the Chisel office in McFarland &ndash\;&ndash\; where we&#39\;ll cover real steps to bring your business to its highest potential.</p>\n\n<p>Don&#39\;t miss out on the chance to gain crucial insight for simplifying your business &ndash\;&ndash\; while still growing your success\, fostering a great team\, and delivering exceptional service.</p>\n\n<p>Register for Lunch &amp\; Learn today and take charge of your business!</p>\n
LOCATION:Chisel ActionCOACH 5920 Exchange Street #1 McFarland\, WI 53558
UID:e.1970.3161
SEQUENCE:3
DTSTAMP:20260423T050517Z
URL:https://business.fitchburgchamber.com/events/details/lunch-learn-at-chisel-actioncoach-3161
END:VEVENT

END:VCALENDAR
