BEGIN:VCALENDAR
VERSION:2.0
PRODID:-//ChamberMaster//Event Calendar 2.0//EN
METHOD:PUBLISH
X-PUBLISHED-TTL:P3D
REFRESH-INTERVAL:P3D
CALSCALE:GREGORIAN
BEGIN:VEVENT
DTSTART:20230825T230000Z
DTEND:20230826T020000Z
X-MICROSOFT-CDO-ALLDAYEVENT:FALSE
SUMMARY:Live Music: Scott Wilcox at Delta Beer Lab
DESCRIPTION:Come out to Delta Beer Lab to enjoy an evening of live music from Scott Wilcox. No dinner plans? No problem! Egg Naanana will be slinging their mouthwatering sandwiches all night.\n\n \nScott Wilcox is a talented musician and songwriter with a sound that blends blues\, rock\, and folk elements. His journey began in his teenage years\, and he has since worked hard to perfect his craft and gain recognition in the music industry. His success has included being featured on the Oprah Winfrey Lifeclass show\, winning the Bob Dylan Songwriting Award\, and performing at various venues across the country.\n\n\nHis music has been described as heartfelt and authentic\, with lyrics that resonate with listeners. In addition to his original music\, Scott is known for his crowd-pleasing covers of popular songs from various decades. Scott's live performances are energetic and engaging\, showcasing his passion for music and his personal connection with his audience. He has released four albums to date\, each highlighting his unique sound and musical growth.\n \n\nWebsite: https://scottwilcox.net/\n\nFacebook: https://www.facebook.com/ScottWilcox.songwriter\n\nInstagram: https://www.instagram.com/scottwilcoxmusic/
X-ALT-DESC;FMTTYPE=text/html:Come out to Delta Beer Lab to enjoy an evening of live music from Scott Wilcox. No dinner plans? No problem! Egg Naanana will be slinging their mouthwatering sandwiches all night.<br />\n&nbsp\;\n<div>Scott Wilcox is a talented musician and songwriter with a sound that blends blues\, rock\, and folk elements. His journey began in his teenage years\, and he has since worked hard to perfect his craft and gain recognition in the music industry. His success has included being featured on the Oprah Winfrey Lifeclass show\, winning the Bob Dylan Songwriting Award\, and performing at various venues across the country.</div>\n<br />\nHis music has been described as heartfelt and authentic\, with lyrics that resonate with listeners. In addition to his original music\, Scott is known for his crowd-pleasing covers of popular songs from various decades. Scott&#39\;s live performances are energetic and engaging\, showcasing his passion for music and his personal connection with his audience. He has released four albums to date\, each highlighting his unique sound and musical growth.\n<div>&nbsp\;</div>\n\n<div>Website:&nbsp\;<a href="https://scottwilcox.net/" style="color: rgb(17\, 85\, 204)\;" target="_blank">https://scottwilcox.net/</a></div>\n\n<div>Facebook:&nbsp\;<a href="https://www.facebook.com/ScottWilcox.songwriter" style="color: rgb(17\, 85\, 204)\;" target="_blank">https://www.facebook.com/ScottWilcox.songwriter</a></div>\n\n<div>Instagram:&nbsp\;<a href="https://www.instagram.com/scottwilcoxmusic/" style="color: rgb(17\, 85\, 204)\;" target="_blank">https://www.instagram.com/scottwilcoxmusic/</a></div>\n
LOCATION:Delta Beer Lab 167 E Badger Rd Madison\, WI 53713
UID:e.1970.3049
SEQUENCE:3
DTSTAMP:20260423T014538Z
URL:https://business.fitchburgchamber.com/events/details/live-music-scott-wilcox-at-delta-beer-lab-3049
END:VEVENT

END:VCALENDAR
