BEGIN:VCALENDAR
VERSION:2.0
PRODID:-//ChamberMaster//Event Calendar 2.0//EN
METHOD:PUBLISH
X-PUBLISHED-TTL:P3D
REFRESH-INTERVAL:P3D
CALSCALE:GREGORIAN
BEGIN:VEVENT
DTSTART:20230728T230000Z
DTEND:20230729T010000Z
X-MICROSOFT-CDO-ALLDAYEVENT:FALSE
SUMMARY:Live Music: Sam Rodewald at Delta Beer Lab
DESCRIPTION:Come out to Delta Beer Lab to enjoy an evening of live music from Sam Rodewald.\n\n\n\nSam takes his influences from operatic aria\, classical art songs\, and modern pop and folk music and writes new songs that interrogate the absurdity of living and making music in a temporary world.\n\n\nHe has been led to believe that he has been singing before he could form words. Something in that space between noise and language allowed him to connect with a vast world he would never fully understand. After years of lessons in piano\, saxophone\, guitar\, and even voice\, as well as a degree in vocal performance and composition\, the universe remains mysterious. Still\, each of these pieces helps Sam examine his relationship to this strange world and the people he shares it with. \n\n \nWebsite: https://www.samrodewald.com/\n\nFacebook: https://www.facebook.com/samrodewaldmusic/\n\nInstagram: https://www.instagram.com/samrodewaldmusic/
X-ALT-DESC;FMTTYPE=text/html:<div>Come out to Delta Beer Lab to enjoy an evening of live music from Sam Rodewald.<br />\n<br />\nSam&nbsp\;takes his influences from operatic aria\, classical art songs\, and modern pop and folk&nbsp\;music&nbsp\;and writes new songs that interrogate the absurdity of living and making&nbsp\;music&nbsp\;in a temporary world.</div>\n<br />\nHe has been led to believe that he has been singing before he could form words. Something in that space between noise and language allowed him to connect with a vast world he would never fully understand. After years of lessons in piano\, saxophone\, guitar\, and even voice\, as well as a degree in vocal performance and composition\, the universe remains mysterious. Still\, each of these pieces helps Sam examine his relationship to this strange world and the people he shares it with.&nbsp\;<br />\n&nbsp\;\n<div>Website:&nbsp\;<a href="https://www.samrodewald.com/" style="color: rgb(17\, 85\, 204)\;" target="_blank">https://www.samrodewald.com/</a></div>\n\n<div>Facebook:&nbsp\;<a href="https://www.facebook.com/samrodewaldmusic/" style="color: rgb(17\, 85\, 204)\;" target="_blank">https://www.facebook.com/samrodewaldmusic/</a></div>\n\n<div>Instagram:&nbsp\;<a href="https://www.instagram.com/samrodewaldmusic/" style="color: rgb(17\, 85\, 204)\;" target="_blank">https://www.instagram.com/samrodewaldmusic/</a></div>\n
LOCATION:Delta Beer Lab 167 E Badger Rd Madison\, WI 53713
UID:e.1970.3048
SEQUENCE:3
DTSTAMP:20260423T000626Z
URL:https://business.fitchburgchamber.com/events/details/live-music-sam-rodewald-at-delta-beer-lab-3048
END:VEVENT

END:VCALENDAR
