BEGIN:VCALENDAR
VERSION:2.0
PRODID:-//ChamberMaster//Event Calendar 2.0//EN
METHOD:PUBLISH
X-PUBLISHED-TTL:P3D
REFRESH-INTERVAL:P3D
CALSCALE:GREGORIAN
BEGIN:VEVENT
DTSTART:20230922T230000Z
DTEND:20230923T013000Z
X-MICROSOFT-CDO-ALLDAYEVENT:FALSE
SUMMARY:Live Music: Dan Plourde at Delta Beer Lab
DESCRIPTION:Come out to Delta Beer Lab to enjoy an evening of live music from Dan Plourde. Set your dinner plans aside\, as LT's Aloha Wagon will be here serving up delectable Hawaiian cuisine!\n\n \nDan Plourde has been playing music for over 20 years. Dan was a guitarist originally\, then picked up the bass as well. Now Dan is continually learning new instruments and playing in many bands in the Madison\, WI area\, including Madison's very own Gin Mill Hollow.\n\n \n\nWebsite: https://www.reverbnation.com/musician/danplourde\n\nFacebook: https://www.facebook.com/DPOTB
X-ALT-DESC;FMTTYPE=text/html:Come out to Delta Beer Lab to enjoy an evening of live music from Dan Plourde. Set your dinner plans aside\, as LT&#39\;s Aloha Wagon will be here serving up delectable Hawaiian cuisine!<br />\n&nbsp\;\n<div>Dan Plourde has been playing music for over 20 years. Dan was a guitarist originally\, then picked up the bass as well. Now Dan is continually learning new instruments and playing in many bands in the Madison\, WI area\, including Madison&#39\;s very own Gin Mill Hollow.</div>\n\n<div>&nbsp\;</div>\n\n<div>Website:&nbsp\;<a href="https://www.reverbnation.com/musician/danplourde" style="color: rgb(17\, 85\, 204)\;" target="_blank">https://www.reverbnation.com/musician/danplourde</a></div>\n\n<div>Facebook:&nbsp\;<a href="https://www.facebook.com/DPOTB" style="color: rgb(17\, 85\, 204)\;" target="_blank">https://www.facebook.com/DPOTB</a></div>\n\n<div>&nbsp\;</div>\n
LOCATION:Delta Beer Lab 167 E Badger Rd Madison\, WI 53713
UID:e.1970.3050
SEQUENCE:3
DTSTAMP:20260423T050916Z
URL:https://business.fitchburgchamber.com/events/details/live-music-dan-plourde-at-delta-beer-lab-3050
END:VEVENT

END:VCALENDAR
