BEGIN:VCALENDAR
VERSION:2.0
PRODID:-//ChamberMaster//Event Calendar 2.0//EN
METHOD:PUBLISH
X-PUBLISHED-TTL:P3D
REFRESH-INTERVAL:P3D
CALSCALE:GREGORIAN
BEGIN:VEVENT
DTSTART:20230526T230000Z
DTEND:20230527T010000Z
X-MICROSOFT-CDO-ALLDAYEVENT:FALSE
SUMMARY:Live Music: Back2Back Acoustic at Delta Beer Lab
DESCRIPTION:Come out to Delta Beer Lab to enjoy an evening of live music from the Back2Back Acoustic duo. Come hungry\, as Paddy's Patties will be serving up mouthwatering smash burgers\, fries\, nachos\, and more!\n\n\n\nA little about Back2Back Acoustic: Jim O'Connor and Chris Anderson began performing together in the rock band\, Steadfast\, in 2005. They began working together as a duo in 2011\, performing in a variety of venues throughout the Madison\, WI area. They cover a wide variety of artists and musical styles including classic rock\, pop and country. You'll hear songs by CCR\, Fleetwood Mac\, The Bodeans\, Patsy Cline\, Redbone\, Carter & Cash\, Eagles\, Tom Petty\, Eurythmics\, Hall & Oats\, Van Morrison and more.\n\n \nWebsite: http://www.back2back-band.com/\n\nFacebook: https://www.facebook.com/Back2BackAcoustic
X-ALT-DESC;FMTTYPE=text/html:Come out to Delta Beer Lab to enjoy an evening of live music from the Back2Back Acoustic duo. Come hungry\, as Paddy&#39\;s Patties will be serving up mouthwatering smash burgers\, fries\, nachos\, and more!<br />\n<br />\nA little about Back2Back Acoustic:&nbsp\;Jim O&rsquo\;Connor and Chris Anderson began performing together in the rock band\, Steadfast\, in 2005. They began working together as a duo in 2011\, performing in a variety of venues throughout the Madison\, WI area. They cover a wide variety of artists and musical styles including classic rock\, pop and country. You&rsquo\;ll hear songs by CCR\, Fleetwood Mac\, The Bodeans\, Patsy Cline\, Redbone\, Carter &amp\; Cash\, Eagles\, Tom Petty\, Eurythmics\, Hall &amp\; Oats\, Van Morrison and more.<br />\n&nbsp\;\n<div>Website:&nbsp\;<a href="http://www.back2back-band.com/" style="color: rgb(17\, 85\, 204)\;" target="_blank">http://www.back2back-band.com/</a></div>\n\n<div>Facebook:&nbsp\;<a href="https://www.facebook.com/Back2BackAcoustic" style="color: rgb(17\, 85\, 204)\;" target="_blank">https://www.facebook.com/Back2BackAcoustic</a></div>\n
LOCATION:Delta Beer Lab 167 E Badger Rd Madison\, WI 53713
UID:e.1970.3044
SEQUENCE:3
DTSTAMP:20260422T222306Z
URL:https://business.fitchburgchamber.com/events/details/live-music-back2back-acoustic-at-delta-beer-lab-3044
END:VEVENT

END:VCALENDAR
