BEGIN:VCALENDAR
VERSION:2.0
PRODID:-//ChamberMaster//Event Calendar 2.0//EN
METHOD:PUBLISH
X-PUBLISHED-TTL:P3D
REFRESH-INTERVAL:P3D
CALSCALE:GREGORIAN
BEGIN:VEVENT
DTSTART;VALUE=DATE:20231201
DTEND;VALUE=DATE:20231204
TRANSP:TRANSPARENT
X-MICROSOFT-CDO-ALLDAYEVENT:TRUE
SUMMARY:Lioness Fitness Grand Opening
DESCRIPTION:Join us for free classes all weekend\, along with an open house on Fri\, Dec 1 from 4-7PM. Come see our new space\, meet the team\, connect with our community and win some sweet raffle prizes!
X-ALT-DESC;FMTTYPE=text/html:Join us for free classes all weekend\, along with an open house on Fri\, Dec 1 from 4-7PM. Come see our new space\, meet the team\, connect with our community and win some sweet raffle prizes!
LOCATION:6200 Nesbitt Rd\, Fitchburg
UID:e.1970.3201
SEQUENCE:3
DTSTAMP:20260423T101743Z
URL:https://business.fitchburgchamber.com/events/details/lioness-fitness-grand-opening-3201
END:VEVENT

END:VCALENDAR
