BEGIN:VCALENDAR
VERSION:2.0
PRODID:-//ChamberMaster//Event Calendar 2.0//EN
METHOD:PUBLISH
X-PUBLISHED-TTL:P3D
REFRESH-INTERVAL:P3D
CALSCALE:GREGORIAN
BEGIN:VEVENT
DTSTART:20231216T170000Z
DTEND:20231216T200000Z
X-MICROSOFT-CDO-ALLDAYEVENT:FALSE
SUMMARY:Kids Wacko!
DESCRIPTION:Come have fun with your kids and Play Kid's Wacko! (Wacko is our version of Bingo). Kids have the opportunity to win some great prizes (drone\, squishmallows\, legos\, gift cards\, and more). $10 to play all 8 games! Sign up by 11/30 in person VFW or via text/phone: Jamie Herrmann (608-516-8079) kiddos will get a goodie bag to take home.
X-ALT-DESC;FMTTYPE=text/html:Come have fun with your kids and Play Kid&#39\;s Wacko! (Wacko is our version of Bingo). Kids have the opportunity to win some great prizes (drone\, squishmallows\, legos\, gift cards\, and more). $10 to play all 8 games! Sign up by 11/30 in person VFW or via text/phone: Jamie Herrmann (608-516-8079) kiddos will get a goodie bag to take home.
LOCATION:2740 Ski Lane
UID:e.1970.3205
SEQUENCE:3
DTSTAMP:20260423T095039Z
URL:https://business.fitchburgchamber.com/events/details/kids-wacko-3205
END:VEVENT

END:VCALENDAR
