BEGIN:VCALENDAR
VERSION:2.0
PRODID:-//ChamberMaster//Event Calendar 2.0//EN
METHOD:PUBLISH
X-PUBLISHED-TTL:P3D
REFRESH-INTERVAL:P3D
CALSCALE:GREGORIAN
BEGIN:VEVENT
DTSTART:20240217T163000Z
DTEND:20240217T193000Z
X-MICROSOFT-CDO-ALLDAYEVENT:FALSE
SUMMARY:Kellymoss Presents: Second Annual Pinewood Derby & Drive
DESCRIPTION:Back by popular demand\, Kellymoss\, Madison's own championship Porsche racing team\, custom build and road shop\, is hosting a a family-friendly event featuring multi-class Pinewood Derby and Apex Pro SIM Racing competitions with prizes\; shop tours\; race car on "the dyno\," games and give-aways\, and more.
X-ALT-DESC;FMTTYPE=text/html:<p>Back by popular demand\, Kellymoss\, Madison&#39\;s own championship Porsche racing team\, custom build and road shop\, is hosting a a family-friendly event featuring multi-class Pinewood Derby and Apex Pro SIM Racing competitions with prizes\; shop tours\; race car on &quot\;the dyno\,&quot\; games and give-aways\, and more.&nbsp\;</p>\n
LOCATION:Kellymoss - our Porsche Road and Race Headquarters 5105 W. Clayton Rd. Fitchburg\, WI 53711
UID:e.1970.3289
SEQUENCE:3
DTSTAMP:20260423T130753Z
URL:https://business.fitchburgchamber.com/events/details/kellymoss-presents-second-annual-pinewood-derby-drive-3289
END:VEVENT

END:VCALENDAR
