BEGIN:VCALENDAR
VERSION:2.0
PRODID:-//ChamberMaster//Event Calendar 2.0//EN
METHOD:PUBLISH
X-PUBLISHED-TTL:P3D
REFRESH-INTERVAL:P3D
CALSCALE:GREGORIAN
BEGIN:VEVENT
DTSTART:20240113T233000Z
DTEND:20240114T023000Z
X-MICROSOFT-CDO-ALLDAYEVENT:FALSE
SUMMARY:Kellymoss Presents: Monte Carlo Night - An Extraordinary Evening
DESCRIPTION:Kellymoss\, Madison's own championship Porsche racing team and road shop\, is hosting a glamorous\, casino-style evening featuring live music\, fabulous food and libations\, silent auction and more. A signature KL B event held in our state-of-the-art headquarters highlighting our storied Porsche racing past and Porsche projects\, the event proceeds support Cars Curing Kids. Celebrate the new year in style while supporting a great cause and experiencing the Porsche lifestyle for yourself!
X-ALT-DESC;FMTTYPE=text/html:<p><span style="font-size:14px"><small><span style="font-family:proxima-nova\,sans-serif">Kellymoss\, Madison&#39\;s own championship Porsche racing team and road shop\, is hosting a glamorous\, casino-style evening featuring live music\, fabulous food and libations\, silent auction and more. A signature KL&Uuml\;B event held in our state-of-the-art headquarters highlighting our storied Porsche racing past and Porsche projects\, the event proceeds support Cars Curing Kids. Celebrate the new year in style while supporting a great cause and experiencing the Porsche lifestyle for yourself!</span></small></span></p>\n
LOCATION:Kellymoss - our Porsche Road and Race Headquarters 5105 W. Clayton Rd. Fitchburg\, WI 53711
UID:e.1970.3219
SEQUENCE:3
DTSTAMP:20260423T101016Z
URL:https://business.fitchburgchamber.com/events/details/kellymoss-presents-monte-carlo-night-an-extraordinary-evening-3219
END:VEVENT

END:VCALENDAR
