BEGIN:VCALENDAR
VERSION:2.0
PRODID:-//ChamberMaster//Event Calendar 2.0//EN
METHOD:PUBLISH
X-PUBLISHED-TTL:P3D
REFRESH-INTERVAL:P3D
CALSCALE:GREGORIAN
BEGIN:VEVENT
DTSTART:20220803T220000Z
DTEND:20220804T010000Z
X-MICROSOFT-CDO-ALLDAYEVENT:FALSE
SUMMARY:Jazz At Five
DESCRIPTION:Jazz at Five\, a summer staple of the Madison music scene\, is coming to McKee Farms Park for their 2022 season! See some of the regions best jazz performers for free Wednesday nights from August 3rd-August 10th. Performances begin with a youth group at 4:30pm followed by headliners at 5:00pm and 6:45pm. Outside food is welcome\, so pack a picnic or get takeout from your favorite restaurant! For more information and updates\, click here.
X-ALT-DESC;FMTTYPE=text/html:Jazz at Five\, a summer staple of the Madison music scene\, is coming to McKee Farms Park for their 2022 season! See some of the regions best jazz performers for free Wednesday nights from August 3rd-August 10th. Performances begin with a youth group at 4:30pm followed by headliners at 5:00pm and 6:45pm. Outside food is welcome\, so pack a picnic or get takeout from your favorite restaurant! For more information and updates\, <strong><a href="http://jazzatfive.org/">click here</a></strong>.
LOCATION:McKee Farms Park 2930 Chapel Valley Road Fitchburg\, WI
UID:e.1970.2021
SEQUENCE:3
DTSTAMP:20260420T074848Z
URL:https://business.fitchburgchamber.com/events/details/jazz-at-five-08-03-2022-2021
END:VEVENT

END:VCALENDAR
