BEGIN:VCALENDAR
VERSION:2.0
PRODID:-//ChamberMaster//Event Calendar 2.0//EN
METHOD:PUBLISH
X-PUBLISHED-TTL:P3D
REFRESH-INTERVAL:P3D
CALSCALE:GREGORIAN
BEGIN:VEVENT
DTSTART:20260308T013000Z
DTEND:20260308T033000Z
X-MICROSOFT-CDO-ALLDAYEVENT:FALSE
SUMMARY:INTERWOVEN | Temple of Time: Music of the East\, West\, Then\, Now - Coppia Concerts
DESCRIPTION:"Temple of Time" invites listeners on a transcendent musical journey that spans centuries and cultures. The program begins with time-honored works from Japan and Europe\, then moves through a diverse landscape of compositions shaped by the meeting of East and West. Along the way\, the music draws inspiration from Asian philosophies\, architecture\, and literature revealing how cultural exchange has shaped artistic expression across time. From ancient traditions to modern interpretations\, each piece offers a glimpse into the ways music can transcend borders\, reflect shared human values\, and create a timeless space where history\, place\, and spirit converge.\n\nProgram to include:\n\nMiyagi Michio\, Haru no Umi for koto and violin\n\nAlessandro Scarlatti\, Sonata a Quattro No. 4 in D minor\n\nMori Madoka\, Japanese Song Medley\, arranged and re-imagined\n\nDaron Hagen\, "Genji" for koto and string quartet\n\nBars will open at 7pm with a selection of wines and cocktails for purchase which have been thoughtfully paired with each piece on the program.\n\nTickets are $35.
X-ALT-DESC;FMTTYPE=text/html:<p data-pm-slice="1 1 []">&ldquo\;Temple of Time&rdquo\; invites listeners on a transcendent musical journey that spans centuries and cultures. The program begins with time-honored works from Japan and Europe\, then moves through a diverse landscape of compositions shaped by the meeting of East and West. Along the way\, the music draws inspiration from Asian philosophies\, architecture\, and literature&mdash\;revealing how cultural exchange has shaped artistic expression across time. From ancient traditions to modern interpretations\, each piece offers a glimpse into the ways music can transcend borders\, reflect shared human values\, and create a timeless space where history\, place\, and spirit converge.</p>\n\n<p>Program to include:</p>\n\n<p>Miyagi Michio\, Haru no Umi for koto and violin</p>\n\n<p>Alessandro Scarlatti\, Sonata a Quattro No. 4 in D minor</p>\n\n<p>Mori Madoka\, Japanese Song Medley\, arranged and re-imagined</p>\n\n<p>Daron Hagen\, &quot\;Genji&quot\; for koto and string quartet</p>\n\n<p>Bars will open at 7pm with a selection of wines and cocktails for purchase which have been thoughtfully paired with each piece on the program.</p>\n\n<p>Tickets are $35.&nbsp\;</p>\n
LOCATION:Four Winds Farm
UID:e.1970.10899
SEQUENCE:3
DTSTAMP:20260424T193909Z
URL:https://business.fitchburgchamber.com/events/details/interwoven-temple-of-time-music-of-the-east-west-then-now-coppia-concerts-10899
END:VEVENT

END:VCALENDAR
