BEGIN:VCALENDAR
VERSION:2.0
PRODID:-//ChamberMaster//Event Calendar 2.0//EN
METHOD:PUBLISH
X-PUBLISHED-TTL:P3D
REFRESH-INTERVAL:P3D
CALSCALE:GREGORIAN
BEGIN:VEVENT
DTSTART:20230223T003000Z
DTEND:20230223T023000Z
X-MICROSOFT-CDO-ALLDAYEVENT:FALSE
SUMMARY:"In the Library": Wine & Watercolor Wednesday
DESCRIPTION:Join Ashley Adams of ShawPawPrints\, as she leads a watercolor sip and paint class in our beautiful library space.  An ideal evening to get lost in the art of watercolor painting\, this experience also makes for a great date night\, friends night out\, or quality time with that special someone.  Wine and soft drinks will be available for purchase.\n\n\n\n*Fee: $40 (includes tax)\n\n*Space is limited to 18 participants.
X-ALT-DESC;FMTTYPE=text/html:Join Ashley Adams of ShawPawPrints\, as she leads a watercolor sip and paint class in our beautiful library space.&nbsp\; An ideal evening to get lost in the art of watercolor painting\, this experience also makes for a great date night\, friends night out\, or quality time with that special someone.&nbsp\; Wine and soft drinks will be available for purchase.<br />\n<br />\n*Fee: $40 (includes tax)<br />\n*Space is limited to 18 participants.
LOCATION:Four Winds Farm 5735 Adams Road\, Fitchburg
UID:e.1970.2763
SEQUENCE:3
DTSTAMP:20260422T172921Z
URL:https://business.fitchburgchamber.com/events/details/in-the-library-wine-watercolor-wednesday-2763
END:VEVENT

END:VCALENDAR
