BEGIN:VCALENDAR
VERSION:2.0
PRODID:-//ChamberMaster//Event Calendar 2.0//EN
METHOD:PUBLISH
X-PUBLISHED-TTL:P3D
REFRESH-INTERVAL:P3D
CALSCALE:GREGORIAN
BEGIN:VEVENT
DTSTART:20220325T230000Z
DTEND:20220326T010000Z
X-MICROSOFT-CDO-ALLDAYEVENT:FALSE
SUMMARY:In the Kitchen Series: Mushroom Extract Benefits & Preparation – Make Your Own Natural Remedies
DESCRIPTION:Join Zach Seaborne\, Friday\, March 25th\, 6:00 pm.   8:00 p.m.\, as they lead a workshop discussing mushrooms\, their benefits\, and how to process them in your own home.\n\n\n\nTopics include:\n\n	Historical use of mushrooms as medicine\n	At-home preparation of natural mushroom remedies\n	An overview of locally available mushrooms and their health benefits\n	A live tincture demonstration\n\n\n\n*Fee: $37.50 (includes tax & take-home materials) Space is limited. Tickets can be found at: fourwindsfarmfitchburg.ticketleap.com\n\n\n\nCOVID-19 PRECAUTIONS:\n\nWorkshop capacity will be limited.\n\nIf you are exhibiting signs of sickness\, fever\, or general unpleasantness\, please stay home.\n\nFor more information feel free to contact mark@fourwindsfarmfitchburg.com (We will respond within 48 hours of inquiry. Please also check your spam/junk folders for replies.)\n\n\n\nABOUT THE INSTRUCTOR\n\nZach is a lifelong Madisonian dedicated to strengthening community health and local food systems. Zach's mycophilia began with a love of foraging and has grown into a passion for the healing power of fungi\, both for our bodies and the environments we inhabit. Zach is a former worker/member at the Community Pharmacy Cooperative where they focused on medicinal mushroom products and is also an experienced grower of gourmet mushrooms for the Madison area.
X-ALT-DESC;FMTTYPE=text/html:Join Zach Seaborne\, Friday\, March 25th\, 6:00 pm. &ndash\; 8:00 p.m.\, as they lead a workshop discussing mushrooms\, their benefits\, and how to process them in your own home.<br />\n<br />\nTopics include:\n<ul>\n	<li>Historical use of mushrooms as medicine</li>\n	<li>At-home preparation of natural mushroom remedies</li>\n	<li>An overview of locally available mushrooms and their health benefits</li>\n	<li>A live tincture demonstration</li>\n</ul>\n<br />\n*Fee: $37.50 (includes tax &amp\; take-home materials) Space is limited. Tickets can be found at: <strong><a href="https://fourwindsfarmfitchburg.ticketleap.com/">fourwindsfarmfitchburg.ticketleap.com</a></strong><br />\n<br />\nCOVID-19 PRECAUTIONS:<br />\nWorkshop capacity will be limited.<br />\nIf you are exhibiting signs of sickness\, fever\, or general unpleasantness\, please stay home.<br />\nFor more information feel free to contact mark@fourwindsfarmfitchburg.com (We will respond within 48 hours of inquiry. Please also check your spam/junk folders for replies.)<br />\n<br />\nABOUT THE INSTRUCTOR<br />\nZach is a lifelong Madisonian dedicated to strengthening community health and local food systems. Zach&#39\;s mycophilia began with a love of foraging and has grown into a passion for the healing power of fungi\, both for our bodies and the environments we inhabit. Zach is a former worker/member at the Community Pharmacy Cooperative where they focused on medicinal mushroom products and is also an experienced grower of gourmet mushrooms for the Madison area.
LOCATION:Four Winds Farm 5735 Adams Road FITCHBURG\, WI 53575
UID:e.1970.1666
SEQUENCE:3
DTSTAMP:20260419T213453Z
URL:https://business.fitchburgchamber.com/events/details/in-the-kitchen-series-mushroom-extract-benefits-preparation-make-your-own-natural-remedies-1666
END:VEVENT

END:VCALENDAR
