BEGIN:VCALENDAR
VERSION:2.0
PRODID:-//ChamberMaster//Event Calendar 2.0//EN
METHOD:PUBLISH
X-PUBLISHED-TTL:P3D
REFRESH-INTERVAL:P3D
CALSCALE:GREGORIAN
BEGIN:VEVENT
DTSTART:20240216T000000Z
DTEND:20240216T020000Z
X-MICROSOFT-CDO-ALLDAYEVENT:FALSE
SUMMARY:"In the Kitchen" Seasonal Cocktail Workshop
DESCRIPTION:Passionate about cocktails and want to spice up your home cocktail skills?\n\n\n\nJoin this workshop for a unique opportunity to learn the art of crafting delicious Seasonal Cocktails. This workshop is led by Mariah Renz\, Co-Founder of Spirited Women+ and a seasoned professional in the Madison bar and restaurant community.\n\n\n\nMariah brings a wealth of knowledge and a passion for mixology\, creating a learning environment where no question is too small. In this hands-on class\, you'll gain valuable experience crafting a versatile Spiced Cocktail Syrup\, along with the skills to master the art of Punch and a perfectly stirred Spiced Whiskey Old Fashioned.\n\n\n\nHighlights of the workshop include:\n\n- Enjoying a delicious Pomegranate Spiced Punch in our beautiful nook.\n\n- Crafting and taking home a 16oz bottle of Hibiscus Spice Syrup.\n\n- Acquiring essential at-home bar skills.\n\n- Opportunity to ask questions and learn from a professional in a casual environment.\n\n- Take home recipes for the Hibiscus Spice Syrup\, Pomegranate - Punch\, and Spiced Whiskey Old Fashioned.\n\n- Building connections and making new friends in a convivial setting.\n\n\n\nDon't miss this opportunity to enhance your mixology skills and enjoy. Secure your spot now for an enriching and enjoyable experience.
X-ALT-DESC;FMTTYPE=text/html:Passionate about cocktails and want to spice up your home cocktail skills?<br />\n<br />\nJoin this workshop for a unique opportunity to learn the art of crafting delicious Seasonal Cocktails. This workshop is led by Mariah Renz\, Co-Founder of Spirited Women+ and a seasoned professional in the Madison bar and restaurant community.<br />\n<br />\nMariah brings a wealth of knowledge and a passion for mixology\, creating a learning environment where no question is too small. In this hands-on class\, you&#39\;ll gain valuable experience crafting a versatile Spiced Cocktail Syrup\, along with the skills to master the art of Punch and a perfectly stirred Spiced Whiskey Old Fashioned.<br />\n<br />\nHighlights of the workshop include:<br />\n- Enjoying a delicious Pomegranate Spiced Punch in our beautiful nook.<br />\n- Crafting and taking home a 16oz bottle of Hibiscus Spice Syrup.<br />\n- Acquiring essential at-home bar skills.<br />\n- Opportunity to ask questions and learn from a professional in a casual environment.<br />\n- Take home recipes for the Hibiscus Spice Syrup\, Pomegranate - Punch\, and Spiced Whiskey Old Fashioned.<br />\n- Building connections and making new friends in a convivial setting.<br />\n<br />\nDon&#39\;t miss this opportunity to enhance your mixology skills and enjoy. Secure your spot now for an enriching and enjoyable experience.&nbsp\;
LOCATION:Four Winds Farm Fitchburg 5735 Adams Road Fitchburg\, WI 53575
UID:e.1970.5033
SEQUENCE:3
DTSTAMP:20260423T131417Z
URL:https://business.fitchburgchamber.com/events/details/in-the-kitchen-seasonal-cocktail-workshop-5033
END:VEVENT

END:VCALENDAR
