BEGIN:VCALENDAR
VERSION:2.0
PRODID:-//ChamberMaster//Event Calendar 2.0//EN
METHOD:PUBLISH
X-PUBLISHED-TTL:P3D
REFRESH-INTERVAL:P3D
CALSCALE:GREGORIAN
BEGIN:VEVENT
DTSTART:20220327T180000Z
DTEND:20220327T203000Z
X-MICROSOFT-CDO-ALLDAYEVENT:FALSE
SUMMARY:“In the Field” Series: Spring Pruning & Care of Young Fruit Trees
DESCRIPTION:Join Lisa Johnson\, Horticulture Outreach Specialist with Dane County\, as she leads a discussion teaching participants how to manage spring pruning\, tips for the care of young fruit trees\, and what you can do to get your trees off to a good start this growing season. There will be a 45 minute presentation conducted in our lovely barn space with the remaining time spent outdoors in our young\, educational fruit orchard.\n\n\n\nFee: $15 (includes tax)\n\n\n\nSpace is limited to 15 participants.\n\n\n\nClass will occur rain or shine. Please dress appropriately for the weather. \n\n\n\nParticipants will walk from our barn to our educational orchard (approximately 700 ft).\n\n\n\nFor questions\, contact mark@fourwindsfarmfitchburg.com\n\nWe will try to respond within 48 hours of inquiry. Please check your spam/junk folders for replies.\n\n\n\nABOUT THE INSTRUCTOR\n\nLisa Johnson grew up in Madison's southwest side. Lisa's mother and grandfather were avid gardeners\, and her love of plant life was encouraged by high-school biology teacher Marilyn Hanson. Lisa earned her undergraduate degree in Horticulture at UW-Madison and worked at various local garden centers and nurseries before returning to the UW for a graduate degree in Agricultural Communications. She started her Cooperative Extension career first in Milwaukee County before returning to Dane County. Lisa started the Teaching Garden at Dane County UWEX in 2004 as an outdoor classroom for master gardeners\, children and the general public.
X-ALT-DESC;FMTTYPE=text/html:Join Lisa Johnson\, Horticulture Outreach Specialist with Dane County\, as she leads a discussion teaching participants how to manage spring pruning\, tips for the care of young fruit trees\, and what you can do to get your trees off to a good start this growing season. There will be a 45 minute presentation conducted in our lovely barn space with the remaining time spent outdoors in our young\, educational fruit orchard.<br />\n<br />\nFee: $15 (includes tax)<br />\n<br />\nSpace is limited to 15 participants.<br />\n<br />\nClass will occur rain or shine. Please dress appropriately for the weather.&nbsp\;<br />\n<br />\nParticipants will walk from our barn to our educational orchard (approximately 700 ft).<br />\n<br />\nFor questions\, contact mark@fourwindsfarmfitchburg.com<br />\nWe will try to respond within 48 hours of inquiry. Please check your spam/junk folders for replies.<br />\n<br />\nABOUT THE INSTRUCTOR<br />\nLisa Johnson grew up in Madison&rsquo\;s southwest side. Lisa&rsquo\;s mother and grandfather were avid gardeners\, and her love of plant life was encouraged by high-school biology teacher Marilyn Hanson. Lisa earned her undergraduate degree in Horticulture at UW-Madison and worked at various local garden centers and nurseries before returning to the UW for a graduate degree in Agricultural Communications. She started her Cooperative Extension career first in Milwaukee County before returning to Dane County. Lisa started the Teaching Garden at Dane County UWEX in 2004 as an outdoor classroom for master gardeners\, children and the general public.
LOCATION:Four Winds Farm 5735 Adams Road Fitchburg\, WI 53575
UID:e.1970.1667
SEQUENCE:3
DTSTAMP:20260419T213201Z
URL:https://business.fitchburgchamber.com/events/details/in-the-field-series-spring-pruning-care-of-young-fruit-trees-1667
END:VEVENT

END:VCALENDAR
