BEGIN:VCALENDAR
VERSION:2.0
PRODID:-//ChamberMaster//Event Calendar 2.0//EN
METHOD:PUBLISH
X-PUBLISHED-TTL:P3D
REFRESH-INTERVAL:P3D
CALSCALE:GREGORIAN
BEGIN:VEVENT
DTSTART:20221130T000000Z
DTEND:20221130T020000Z
X-MICROSOFT-CDO-ALLDAYEVENT:FALSE
SUMMARY:Hops & Holiday Wreaths
DESCRIPTION:Sip hops & learn to make your own premium\, fresh evergreen wreath. Multiple evergreen & decoration options to match any aesthetic perfectly.\n\nChoose from 5+ varieties of evergreen\, 10+ types of adornment\, and 10+ styles of ribbon. There's endless combinations to perfectly match your aesthetic.\n\nIf you come with a group of friends (4 or more in your group)\, you'll each be entered into a raffle for a free premium wreath!\n\nEach ticket includes:\n\nyour first beverage\n\nchoice of evergreen for base\n\nadornments\n\nwreath frame\n\nribbon for bow\n\n~ 1.5 hour of instruction/crafting
X-ALT-DESC;FMTTYPE=text/html:Sip hops &amp\; learn to make your own premium\, fresh evergreen wreath. Multiple evergreen &amp\; decoration options to match any aesthetic perfectly.<br />\nChoose from 5+ varieties of evergreen\, 10+ types of adornment\, and 10+ styles of ribbon. There&#39\;s endless combinations to perfectly match your aesthetic.<br />\nIf you come with a group of friends (4 or more in your group)\, you&#39\;ll each be entered into a raffle for a free premium wreath!<br />\nEach ticket includes:<br />\nyour first beverage<br />\nchoice of evergreen for base<br />\nadornments<br />\nwreath frame<br />\nribbon for bow<br />\n~ 1.5 hour of instruction/crafting
LOCATION:Delta Beer Lab 167 E. Badger Road\, Madison
UID:e.1970.2090
SEQUENCE:3
DTSTAMP:20260422T121753Z
URL:https://business.fitchburgchamber.com/events/details/hops-holiday-wreaths-2090
END:VEVENT

END:VCALENDAR
