BEGIN:VCALENDAR
VERSION:2.0
PRODID:-//ChamberMaster//Event Calendar 2.0//EN
METHOD:PUBLISH
X-PUBLISHED-TTL:P3D
REFRESH-INTERVAL:P3D
CALSCALE:GREGORIAN
BEGIN:VEVENT
DTSTART;VALUE=DATE:20230930
DTEND;VALUE=DATE:20231001
TRANSP:TRANSPARENT
X-MICROSOFT-CDO-ALLDAYEVENT:TRUE
SUMMARY:Hop Haus Beer Run
DESCRIPTION:This event will take place at the Hop Haus Brewing Company location in Fitchburg\, right across the parking lot from the new Race Day Events office. This event will include a 5K run/walk and a 21 and older Beer Mile! Participants of the 5K will receive a free pint of Hop Haus beer post race or a non-alcoholic beverage if under 21. But if you're looking for a challenge\, and more beer\, then we encourage you to check out the Beer Mile. We encourage all 5K participants and spectators to stick around and enjoy the Beer Mile because it's definitely a sight to see!
X-ALT-DESC;FMTTYPE=text/html:This event will take place at the Hop Haus Brewing Company location in Fitchburg\, right across the parking lot from the new Race Day Events office. This event will include a 5K run/walk and a 21 and older Beer Mile! Participants of the 5K will receive a free pint of Hop Haus beer post race or a non-alcoholic beverage if under 21. But if you&#39\;re looking for a challenge\, and more beer\, then we encourage you to check out the Beer Mile. We encourage all 5K participants and spectators to stick around and enjoy the Beer Mile because it&#39\;s definitely a sight to see!
LOCATION:2975 Sub Zero Parkway\, Fitchburg
UID:e.1970.2058
SEQUENCE:3
DTSTAMP:20260423T050628Z
URL:https://business.fitchburgchamber.com/events/details/hop-haus-beer-run-2058
END:VEVENT

END:VCALENDAR
