BEGIN:VCALENDAR
VERSION:2.0
PRODID:-//ChamberMaster//Event Calendar 2.0//EN
METHOD:PUBLISH
X-PUBLISHED-TTL:P3D
REFRESH-INTERVAL:P3D
CALSCALE:GREGORIAN
BEGIN:VEVENT
DTSTART:20231223T210000Z
DTEND:20231223T230000Z
X-MICROSOFT-CDO-ALLDAYEVENT:FALSE
SUMMARY:Holiday Meat Raffle
DESCRIPTION:Join us for our FINAL Meat Raffle of 2023! Come dressed in your Ugliest Christmas Sweater or your favorite Christmas Character! Meat Raffles are $2 per paddle per round
X-ALT-DESC;FMTTYPE=text/html:Join us for our FINAL Meat Raffle of 2023! Come dressed in your Ugliest Christmas Sweater or your favorite Christmas Character! Meat Raffles are $2 per paddle per round
LOCATION:2740 Ski Lane
UID:e.1970.3217
SEQUENCE:3
DTSTAMP:20260423T082417Z
URL:https://business.fitchburgchamber.com/events/details/holiday-meat-raffle-3217
END:VEVENT

END:VCALENDAR
