BEGIN:VCALENDAR
VERSION:2.0
PRODID:-//ChamberMaster//Event Calendar 2.0//EN
METHOD:PUBLISH
X-PUBLISHED-TTL:P3D
REFRESH-INTERVAL:P3D
CALSCALE:GREGORIAN
BEGIN:VEVENT
DTSTART:20231209T170000Z
DTEND:20231209T210000Z
X-MICROSOFT-CDO-ALLDAYEVENT:FALSE
SUMMARY:Holiday Extravaganza
DESCRIPTION:Join us for our Annual Holiday Extravaganza! There will be crafters and Vendors having a quarter auction\, where you have a chance to win one of their products valued at $25-100 for a quarter! We will have a Meat Raffle (and a couple of dessert pies)\, a lot of basket raffles and other raffles and a whole lot of fun! Family friendly event. Food and Beverages will be available for purchase. Proceeds of the raffles will go to the VFW Post 1318. The VFW Post 1318 are committed to helping local Veterans and their Communities and are always open to the public.
X-ALT-DESC;FMTTYPE=text/html:Join us for our Annual Holiday Extravaganza! There will be crafters and Vendors having a quarter auction\, where you have a chance to win one of their products valued at $25-100 for a quarter! We will have a Meat Raffle (and a couple of dessert pies)\, a lot of basket raffles and other raffles and a whole lot of fun! Family friendly event. Food and Beverages will be available for purchase. Proceeds of the raffles will go to the VFW Post 1318. The VFW Post 1318 are committed to helping local Veterans and their Communities and are always open to the public.
LOCATION:2740 Ski Lane
UID:e.1970.3204
SEQUENCE:3
DTSTAMP:20260423T082246Z
URL:https://business.fitchburgchamber.com/events/details/holiday-extravaganza-3204
END:VEVENT

END:VCALENDAR
