BEGIN:VCALENDAR
VERSION:2.0
PRODID:-//ChamberMaster//Event Calendar 2.0//EN
METHOD:PUBLISH
X-PUBLISHED-TTL:P3D
REFRESH-INTERVAL:P3D
CALSCALE:GREGORIAN
BEGIN:VEVENT
DTSTART:20260208T013000Z
DTEND:20260208T033000Z
X-MICROSOFT-CDO-ALLDAYEVENT:FALSE
SUMMARY:Henrique Eisenmann\, Piano + Eugene Friesen\, Cello - Coppia Concerts
DESCRIPTION:The duo of cellist Eugene Friesen and pianist Henrique Eisenmann brings the concept of chamber music into the world of jazz and world music. Friesen\, a 4-time Grammy Award winner\, is known for expanding the role of the cello into jazz and world music styles\, while Brazilian-born Henrique Eisenmann is both a classical virtuoso and a stunning jazz improvisational artist. In this program of originals and Brazilian bossa nova\, West-African grooves\, and innovative arrangements of well known songs\, Friesen and Eisenmann redefine their instruments as they liberate the classical genre.\n\nProgram to include original works by Friesen and Eisenmann in addition to selections of Ant nio Carlos Jobim\, Heitor Villa-Lobos\, Johann Sebastian Bach\, Milton Nascimento\, and others.\n\nBars will open at 7pm with a selection of wines and cocktails for purchase which have been thoughtfully paired with each piece on the program.\n\nTickets are $35.
X-ALT-DESC;FMTTYPE=text/html:<p data-pm-slice="1 1 []">The duo of cellist Eugene Friesen and pianist Henrique Eisenmann brings the concept of chamber music into the world of jazz and world music. Friesen\, a 4-time Grammy Award winner\, is known for expanding the role of the cello into jazz and world music styles\, while Brazilian-born Henrique Eisenmann is both a classical virtuoso and a stunning jazz improvisational artist. In this program of originals and Brazilian bossa nova\, West-African grooves\, and innovative arrangements of well known songs\, Friesen and Eisenmann redefine their instruments as they liberate the classical genre.</p>\n\n<p>Program to include original works by Friesen and Eisenmann in addition to selections of Ant&ocirc\;nio Carlos Jobim\, Heitor Villa-Lobos\, Johann Sebastian Bach\, Milton Nascimento\, and others.</p>\n\n<p>Bars will open at 7pm with a selection of wines and cocktails for purchase which have been thoughtfully paired with each piece on the program.</p>\n\n<p>Tickets are $35.</p>\n
LOCATION:Four Winds Farm
UID:e.1970.10898
SEQUENCE:3
DTSTAMP:20260424T224642Z
URL:https://business.fitchburgchamber.com/events/details/henrique-eisenmann-piano-eugene-friesen-cello-coppia-concerts-10898
END:VEVENT

END:VCALENDAR
