BEGIN:VCALENDAR
VERSION:2.0
PRODID:-//ChamberMaster//Event Calendar 2.0//EN
METHOD:PUBLISH
X-PUBLISHED-TTL:P3D
REFRESH-INTERVAL:P3D
CALSCALE:GREGORIAN
BEGIN:VEVENT
DTSTART;VALUE=DATE:20221101
DTEND;VALUE=DATE:20221201
TRANSP:TRANSPARENT
X-MICROSOFT-CDO-ALLDAYEVENT:TRUE
SUMMARY:Delta Beer Lab Heat the Feet Sock Drive
DESCRIPTION:Delta Beer Lab has partnered with Lee Kampa from Nations Lending for this year's Heat the Feet sock drive. Bring in any 6-pack (or larger) of new\, unopened socks and make a taproom purchase to be entered into a drawing to win your choice of gift cards from local businesses.
X-ALT-DESC;FMTTYPE=text/html:Delta Beer Lab has partnered with Lee Kampa from Nations Lending for this year&#39\;s Heat the Feet sock drive. Bring in any 6-pack (or larger) of new\, unopened socks and make a taproom purchase to be entered into a drawing to win your choice of gift cards from local businesses.
LOCATION:Delta Beer Lab 167 E Badger Rd Fitchburg\, WI 53713
UID:e.1970.2087
SEQUENCE:3
DTSTAMP:20260422T122059Z
URL:https://business.fitchburgchamber.com/events/details/heat-the-feet-sock-drive-2087
END:VEVENT

END:VCALENDAR
