BEGIN:VCALENDAR
VERSION:2.0
PRODID:-//ChamberMaster//Event Calendar 2.0//EN
METHOD:PUBLISH
X-PUBLISHED-TTL:P3D
REFRESH-INTERVAL:P3D
CALSCALE:GREGORIAN
BEGIN:VEVENT
DTSTART:20230707T230000Z
DTEND:20230708T003000Z
X-MICROSOFT-CDO-ALLDAYEVENT:FALSE
SUMMARY:Happy Hour and Themed Trivia at Delta Beer Lab
DESCRIPTION:Join Delta Beer Lab and RENEW Wisconsin for an evening of education and engagement focused on renewable energy! The evening will kick off with a Solar Power Happy Hour\, followed by environmental-themed trivia hosted by Premier Trivia beginning at 6:30.\n\n\n\nTrivia is free to play and prizes will be provided by Delta Beer Lab and RENEW Wisconsin.\n\n\n\nPaddy's Patties will be on site serving up delicious smash burgers\, fries\, and more!
X-ALT-DESC;FMTTYPE=text/html:Join Delta Beer Lab and RENEW Wisconsin for an evening of education and engagement focused on renewable energy! The evening will kick off with a Solar Power Happy Hour\, followed by environmental-themed trivia hosted by Premier Trivia beginning at 6:30.<br />\n<br />\nTrivia is free to play and prizes will be provided by Delta Beer Lab and RENEW Wisconsin.<br />\n<br />\nPaddy&#39\;s Patties will be on site serving up delicious smash burgers\, fries\, and more!
LOCATION:Delta Beer Lab 167 E Badger Rd Madison\, WI 53713
UID:e.1970.3091
SEQUENCE:3
DTSTAMP:20260423T014518Z
URL:https://business.fitchburgchamber.com/events/details/happy-hour-and-themed-trivia-at-delta-beer-lab-3091
END:VEVENT

END:VCALENDAR
