BEGIN:VCALENDAR
VERSION:2.0
PRODID:-//ChamberMaster//Event Calendar 2.0//EN
METHOD:PUBLISH
X-PUBLISHED-TTL:P3D
REFRESH-INTERVAL:P3D
CALSCALE:GREGORIAN
BEGIN:VEVENT
DTSTART:20231108T000000Z
DTEND:20231108T020000Z
X-MICROSOFT-CDO-ALLDAYEVENT:FALSE
SUMMARY:Grateful For The Boos: A Mash-Up Cabaret Of The Spooky And Grateful
DESCRIPTION:Opera on Tap- Wisconsin returns to Delta Beer Lab in November with our most exciting mash-up cabaret concert yet! Join us as we share some arias and songs about the things that go bump inn the night and why we are grateful for them.\n\n\n\nProfessional local musicians will sing music of vengeance\, all things creepy\, and operatic drinking songs. Join us for some great classical music and try Delta Beer Lab's amazing brews. The concert is appropriate for families\, those who already love classical music\, and those who are looking for an opportunity to hear opera in an approachable setting.\n\n\n\nA suggested donation of $10 is requested to help support our operating costs and musicians.
X-ALT-DESC;FMTTYPE=text/html:Opera on Tap- Wisconsin returns to Delta Beer Lab in November with our most exciting mash-up cabaret concert yet! Join us as we share some arias and songs about the things that go bump inn the night and why we are grateful for them.<br />\n<br />\nProfessional local musicians will sing music of vengeance\, all things creepy\, and operatic drinking songs. Join us for some great classical music and try Delta Beer Lab&#39\;s amazing brews. The concert is appropriate for families\, those who already love classical music\, and those who are looking for an opportunity to hear opera in an approachable setting.<br />\n<br />\nA suggested donation of $10 is requested to help support our operating costs and musicians.
LOCATION:167 E. Badger Road Fitchburg
UID:e.1970.3172
SEQUENCE:3
DTSTAMP:20260423T083232Z
URL:https://business.fitchburgchamber.com/events/details/grateful-for-the-boos-a-mash-up-cabaret-of-the-spooky-and-grateful-3172
END:VEVENT

END:VCALENDAR
