BEGIN:VCALENDAR
VERSION:2.0
PRODID:-//ChamberMaster//Event Calendar 2.0//EN
METHOD:PUBLISH
X-PUBLISHED-TTL:P3D
REFRESH-INTERVAL:P3D
CALSCALE:GREGORIAN
BEGIN:VEVENT
DTSTART:20221028T180000Z
DTEND:20221028T210000Z
X-MICROSOFT-CDO-ALLDAYEVENT:FALSE
SUMMARY:Goats at the Goat
DESCRIPTION:Come by the Thirsty Goat and have some fun with real goats. Feed\, pet\, and play with the goats. Fun for the whole family!
X-ALT-DESC;FMTTYPE=text/html:Come by the Thirsty Goat and have some fun with real goats. Feed\, pet\, and play with the goats. Fun for the whole family!
LOCATION:Thirsty Goat 3040 Cahill Main Fitchburg\, WI 53711
UID:e.1970.2075
SEQUENCE:3
DTSTAMP:20260422T084212Z
URL:https://business.fitchburgchamber.com/events/details/goats-at-the-goat-2075
END:VEVENT

END:VCALENDAR
