BEGIN:VCALENDAR
VERSION:2.0
PRODID:-//ChamberMaster//Event Calendar 2.0//EN
METHOD:PUBLISH
X-PUBLISHED-TTL:P3D
REFRESH-INTERVAL:P3D
CALSCALE:GREGORIAN
BEGIN:VEVENT
DTSTART:20260423T200000Z
DTEND:20260424T020000Z
X-MICROSOFT-CDO-ALLDAYEVENT:FALSE
SUMMARY:German Beer Day!
DESCRIPTION:Celebrate German Beer Day with us on April 23rd as we raise a glass to the 1516 Reinheitsgebot and centuries of German brewing tradition!\n\nJoin us at 6:00PM for a special brewer talk with Kirby\, who will share a brief history of the Reinheitsgebot and how it shaped the beer in your glass\, plus highlight the four beers we brewed for this occasion.\n\nWe're featuring four German-style lagers:\n\n  Mai Bock   a rich\, golden bock with smooth malt character and a clean\, balanced finish // 7.3% ABV\n\n  Munich Dunkel   smooth\, malty\, and deeply drinkable with a classic Munich character // 4.9% ABV\n\n  Franconian-Style Rotbier   a traditional amber-red lager with biscuity malt notes and a slightly dry finish // 5.4% ABV\n\n  German Helles   a crisp\, clean lager brewed with European malts offering soft malt character\, subtle hop balance\, and a refreshing finish // 5% ABV\n\nThis is a free event no ticket needed. Get a flight and sample all four beers because four centuries of tradition deserves four glasses to match! Prost!
X-ALT-DESC;FMTTYPE=text/html:<p>Celebrate German Beer Day with us on April 23rd as we raise a glass to the 1516 Reinheitsgebot and centuries of German brewing tradition!</p>\n\n<p>Join us at 6:00PM for a special brewer talk with Kirby\, who will share a brief history of the Reinheitsgebot and how it shaped the beer in your glass\, plus highlight the four beers we brewed for this occasion.</p>\n\n<p>We&rsquo\;re featuring four German-style lagers:<br />\n&bull\; Mai Bock &ndash\; a rich\, golden bock with smooth malt character and a clean\, balanced finish // 7.3% ABV<br />\n&bull\; Munich Dunkel &ndash\; smooth\, malty\, and deeply drinkable with a classic Munich character // 4.9% ABV<br />\n&bull\; Franconian-Style Rotbier &ndash\; a traditional amber-red lager with biscuity malt notes and a slightly dry finish // 5.4% ABV<br />\n&bull\; German Helles &ndash\; a crisp\, clean lager brewed with European malts offering soft malt character\, subtle hop balance\, and a refreshing finish // 5% ABV</p>\n\n<p>This is a free event&mdash\;no ticket needed. Get a flight and sample all four beers&mdash\;because four centuries of tradition deserves four glasses to match! Prost!&nbsp\;</p>\n
LOCATION:
UID:e.1970.11319
SEQUENCE:3
DTSTAMP:20260420T233843Z
URL:https://business.fitchburgchamber.com/events/details/german-beer-day-11319
END:VEVENT

END:VCALENDAR
