BEGIN:VCALENDAR
VERSION:2.0
PRODID:-//ChamberMaster//Event Calendar 2.0//EN
METHOD:PUBLISH
X-PUBLISHED-TTL:P3D
REFRESH-INTERVAL:P3D
CALSCALE:GREGORIAN
BEGIN:VEVENT
DTSTART:20231014T200000Z
DTEND:20231015T040000Z
X-MICROSOFT-CDO-ALLDAYEVENT:FALSE
SUMMARY:GAME NIGHT!
DESCRIPTION:Join us for a family friendly GAME NIGHT. Bring your favorite games to play with others or choose one of the board\, card\, dice or virtual games available. Invite your friends/family to join you or come meet new friends! Food and beverages available for purchase
X-ALT-DESC;FMTTYPE=text/html:Join us for a family friendly GAME NIGHT. Bring your favorite games to play with others or choose one of the board\, card\, dice or virtual games available. Invite your friends/family to join you or come meet new friends! Food and beverages available for purchase
LOCATION:VFW Post 1318\, 2740 Ski Lane
UID:e.1970.3142
SEQUENCE:3
DTSTAMP:20260423T050510Z
URL:https://business.fitchburgchamber.com/events/details/game-night-3142
END:VEVENT

END:VCALENDAR
