BEGIN:VCALENDAR
VERSION:2.0
PRODID:-//ChamberMaster//Event Calendar 2.0//EN
METHOD:PUBLISH
X-PUBLISHED-TTL:P3D
REFRESH-INTERVAL:P3D
CALSCALE:GREGORIAN
BEGIN:VEVENT
DTSTART:20260313T230000Z
DTEND:20260314T020000Z
X-MICROSOFT-CDO-ALLDAYEVENT:FALSE
SUMMARY:Gallery Reception and Live Music - Baz Sundark
DESCRIPTION:Delta Beer Lab is proud to present our next Art Gallery installation! Join us on Friday\, March 13 from 6-9pm for Baz's gallery showing. They will be in the brewery for a meet and greet and reception. \n\n\n\nNola Talks to Trees and The Chaos Gremlins will be playing live music at 7:15pm. Additional paintings will be available for purchase. Wear or bring something that makes you happy\, and feel free to bring in food\, friends\, and partners!\n\n\n\nBaz's gallery will be up for the entire month of March\, so stop in anytime to explore their work!
X-ALT-DESC;FMTTYPE=text/html:Delta Beer Lab is proud to present our next Art Gallery installation! Join us on Friday\, March 13 from 6-9pm for Baz&#39\;s gallery showing. They will be in the brewery for a meet and greet and reception.&nbsp\;<br />\n<br />\nNola Talks to Trees and The Chaos Gremlins will be playing live music at 7:15pm. Additional paintings will be available for purchase. Wear or bring something that makes you happy\, and feel free to bring in food\, friends\, and partners!<br />\n<br />\nBaz&#39\;s gallery will be up for the entire month of March\, so stop in anytime to explore their work!
LOCATION:Delta Beer Lab 167 E Badger Rd Fitchburg\, WI 53713
UID:e.1970.11252
SEQUENCE:3
DTSTAMP:20260424T193420Z
URL:https://business.fitchburgchamber.com/events/details/gallery-reception-and-live-music-baz-sundark-11252
END:VEVENT

END:VCALENDAR
