BEGIN:VCALENDAR
VERSION:2.0
PRODID:-//ChamberMaster//Event Calendar 2.0//EN
METHOD:PUBLISH
X-PUBLISHED-TTL:P3D
REFRESH-INTERVAL:P3D
CALSCALE:GREGORIAN
BEGIN:VEVENT
DTSTART:20221112T180000Z
DTEND:20221112T220000Z
X-MICROSOFT-CDO-ALLDAYEVENT:FALSE
SUMMARY:Fundraiser to Help Veterans
DESCRIPTION:Fundraiser at VFW Post 1318\, 2740 Ski Lane Road presented by Rolling Thunder Wisconsin Chapter 5. Vendors will be auctioning off products for as little as a quarter. There will be meat raffles\, 50/50 raffles and basket raffles. Rolling Thunder Wisconsin Chapter 5 will use the money collected in the raffles to help Veterans in need for the holidays and help raise awareness towards the POW-MIA issues
X-ALT-DESC;FMTTYPE=text/html:Fundraiser at VFW Post 1318\, 2740 Ski Lane Road presented by Rolling Thunder Wisconsin Chapter 5. Vendors will be auctioning off products for as little as a quarter. There will be meat raffles\, 50/50 raffles and basket raffles. Rolling Thunder Wisconsin Chapter 5 will use the money collected in the raffles to help Veterans in need for the holidays and help raise awareness towards the POW-MIA issues
LOCATION:VFW Post 1318\, 2740 Ski Lane
UID:e.1970.2081
SEQUENCE:3
DTSTAMP:20260422T121640Z
URL:https://business.fitchburgchamber.com/events/details/fundraiser-to-help-veterans-2081
END:VEVENT

END:VCALENDAR
