BEGIN:VCALENDAR
VERSION:2.0
PRODID:-//ChamberMaster//Event Calendar 2.0//EN
METHOD:PUBLISH
X-PUBLISHED-TTL:P3D
REFRESH-INTERVAL:P3D
CALSCALE:GREGORIAN
BEGIN:VEVENT
DTSTART:20260516T230000Z
DTEND:20260517T010000Z
X-MICROSOFT-CDO-ALLDAYEVENT:FALSE
SUMMARY:From Garden to Glass: Herb & Cocktail Pairing Experience
DESCRIPTION:Learn how fresh herbs elevate cocktails! Taste\, create\, and plant your own herb cocktail garden at Yahara Bay Distillery.\n\n\n\n\nJoin Geske's Gardens for a fun and flavorful evening at Yahara's Distillery where garden herbs meet handcrafted cocktails!\n\nIn this interactive class\, you'll learn how fresh herbs can transform simple drinks into incredible craft cocktails. We'll explore herb flavors\, pairing ideas\, and how to grow the perfect herbs for your own cocktail garden at home.
X-ALT-DESC;FMTTYPE=text/html:<div>\n<div>\n<p>Learn how fresh herbs elevate cocktails! Taste\, create\, and plant your own herb cocktail garden at Yahara Bay Distillery.</p>\n</div>\n</div>\n\n<div>\n<p>Join Geske&rsquo\;s Gardens for a fun and flavorful evening at Yahara&rsquo\;s Distillery where garden herbs meet handcrafted cocktails!</p>\n\n<p>In this interactive class\, you&rsquo\;ll learn how fresh herbs can transform simple drinks into incredible craft cocktails. We&rsquo\;ll explore herb flavors\, pairing ideas\, and how to grow the perfect herbs for your own cocktail garden at home.</p>\n\n<p>&nbsp\;</p>\n</div>\n
LOCATION:Yahara Bay Distillers 6250 Nesbitt Road #200 Madison\, WI 53719
UID:e.1970.11322
SEQUENCE:3
DTSTAMP:20260424T192214Z
URL:https://business.fitchburgchamber.com/events/details/from-garden-to-glass-herb-cocktail-pairing-experience-11322
END:VEVENT

END:VCALENDAR
