BEGIN:VCALENDAR
VERSION:2.0
PRODID:-//ChamberMaster//Event Calendar 2.0//EN
METHOD:PUBLISH
X-PUBLISHED-TTL:P3D
REFRESH-INTERVAL:P3D
CALSCALE:GREGORIAN
BEGIN:VEVENT
DTSTART:20190525T003000Z
DTEND:20190525T023000Z
X-MICROSOFT-CDO-ALLDAYEVENT:FALSE
SUMMARY:Free Live Music: Old Farm Dog
DESCRIPTION:Old Farm Dog's first show in the beautiful tasting room at Madison's first craft distiller.
X-ALT-DESC;FMTTYPE=text/html:Old Farm Dog&#39\;s first show in the beautiful tasting room at Madison&#39\;s first craft distiller.
LOCATION:Yahara Bay Distillers\, 6250 Nesbitt Road in Fitchburg\, WI
UID:e.1970.321
SEQUENCE:3
DTSTAMP:20260422T014653Z
URL:https://business.fitchburgchamber.com/events/details/free-live-music-old-farm-dog-321
END:VEVENT

END:VCALENDAR
