BEGIN:VCALENDAR
VERSION:2.0
PRODID:-//ChamberMaster//Event Calendar 2.0//EN
METHOD:PUBLISH
X-PUBLISHED-TTL:P3D
REFRESH-INTERVAL:P3D
CALSCALE:GREGORIAN
BEGIN:VEVENT
DTSTART:20190518T003000Z
DTEND:20190518T023000Z
X-MICROSOFT-CDO-ALLDAYEVENT:FALSE
SUMMARY:Free Live Music: Nick Venturella
DESCRIPTION:Nick Venturella is a coffeehouse\, corporate events & college market entertainer -- solo singer/songwriter -- professionally performing since 1994. Has shared stages with: Jason LeVasseur (solo and with Life in General) Copeland (of Tooth and Nail Records)
X-ALT-DESC;FMTTYPE=text/html:Nick Venturella is a coffeehouse\, corporate events &amp\; college market entertainer -- solo singer/songwriter -- professionally performing since 1994. Has shared stages with: Jason LeVasseur (solo and with Life in General) Copeland (of Tooth and Nail Records)
LOCATION:Yahara Bay Distillers\, 6250 Nesbitt Road in Fitchburg\, WI
UID:e.1970.320
SEQUENCE:3
DTSTAMP:20260422T014653Z
URL:https://business.fitchburgchamber.com/events/details/free-live-music-nick-venturella-320
END:VEVENT

END:VCALENDAR
