BEGIN:VCALENDAR
VERSION:2.0
PRODID:-//ChamberMaster//Event Calendar 2.0//EN
METHOD:PUBLISH
X-PUBLISHED-TTL:P3D
REFRESH-INTERVAL:P3D
CALSCALE:GREGORIAN
BEGIN:VEVENT
DTSTART:20240209T000000Z
DTEND:20240209T020000Z
X-MICROSOFT-CDO-ALLDAYEVENT:FALSE
SUMMARY:Four Winds Farm Cooking Class - Superbowl Appetizer
DESCRIPTION:Join Chef Laura from Thyme Savor Cuisine for this informative and delicious presentation-style class\, as she shares her professional tips and tricks of the trade. Learn how to make the following appetizers to wow your friends and family at your next gathering!\n\n- Mexican Street Corn Dip\n\n- BLT Dip\n\n- Pizza Rolls\n\n- Taco Cups\n\nWith a rich background as a chef in local restaurants and\, for the past 25 years\, as the manager of a sizable deli\, Laura Eyler brings a wealth of experience to the culinary realm. Armed with a culinary arts degree and three decades of professional cooking expertise\, she possesses the licensing and managerial acumen required to excel as a personal chef.\n\nSupported by her loving family\, Laura is happily married to her husband Jason\, and together\, they are parents to three wonderful boys. Recognizing the significance of family meals around the table\, Laura understands the importance of sharing daily experiences with loved ones.\n\nLaura considers herself fortunate to engage in her passion every day cooking for people. Her joy lies in bringing happiness to clients through the art of food. After all\, we all need to eat\, and why not savor delicious meals in the comfort of your home with Thyme Savor Cuisine!
X-ALT-DESC;FMTTYPE=text/html:Join Chef Laura from Thyme Savor Cuisine for this informative and delicious presentation-style class\, as she shares her professional tips and tricks of the trade. Learn how to make the following appetizers to wow your friends and family at your next gathering!<br />\n- Mexican Street Corn Dip<br />\n- BLT Dip<br />\n- Pizza Rolls<br />\n- Taco Cups<br />\nWith a rich background as a chef in local restaurants and\, for the past 25 years\, as the manager of a sizable deli\, Laura Eyler brings a wealth of experience to the culinary realm. Armed with a culinary arts degree and three decades of professional cooking expertise\, she possesses the licensing and managerial acumen required to excel as a personal chef.<br />\nSupported by her loving family\, Laura is happily married to her husband Jason\, and together\, they are parents to three wonderful boys. Recognizing the significance of family meals around the table\, Laura understands the importance of sharing daily experiences with loved ones.<br />\nLaura considers herself fortunate to engage in her passion every day&mdash\;cooking for people. Her joy lies in bringing happiness to clients through the art of food. After all\, we all need to eat\, and why not savor delicious meals in the comfort of your home with Thyme Savor Cuisine!
LOCATION:Four Winds Farm Fitchburg 5735 Adams Road Fitchburg\, WI 53575
UID:e.1970.5032
SEQUENCE:3
DTSTAMP:20260423T130548Z
URL:https://business.fitchburgchamber.com/events/details/four-winds-farm-cooking-class-superbowl-appetizer-5032
END:VEVENT

END:VCALENDAR
