BEGIN:VCALENDAR
VERSION:2.0
PRODID:-//ChamberMaster//Event Calendar 2.0//EN
METHOD:PUBLISH
X-PUBLISHED-TTL:P3D
REFRESH-INTERVAL:P3D
CALSCALE:GREGORIAN
BEGIN:VEVENT
DTSTART:20231015T160000Z
DTEND:20231015T200000Z
X-MICROSOFT-CDO-ALLDAYEVENT:FALSE
SUMMARY:Food Truck Festival at Four Winds Farm
DESCRIPTION:Join Four Winds Farm for their first Fall Food Truck Festival!\n\n\n\nFood will be available for purchase from various local food truck vendors. Their vendor list is still in the process of being finalized\, stay tuned for updates! There will be an array of cuisines to choose from and options to fit various dietary restrictions. There will be beverages for sale the day of (please no carry in beverages).\n\n\n\nLive music will be performed on the patio from 11:30am-2:30pm.\n\nTickets must be purchased for each attendee over the age of 5.
X-ALT-DESC;FMTTYPE=text/html:Join Four Winds Farm for their first Fall Food Truck Festival!<br />\n<br />\nFood will be available for purchase from various local food truck vendors. Their vendor list is still in the process of being finalized\, stay tuned for updates! There will be an array of cuisines to choose from and options to fit various dietary restrictions. There will be beverages for sale the day of (please no carry in beverages).<br />\n<br />\nLive music will be performed on the patio from 11:30am-2:30pm.<br />\nTickets must be purchased for each attendee over the age of 5.
LOCATION:5935 Adams Rd\, Fitchburg\, WI
UID:e.1970.3124
SEQUENCE:3
DTSTAMP:20260423T051524Z
URL:https://business.fitchburgchamber.com/events/details/food-truck-festival-at-four-winds-farm-3124
END:VEVENT

END:VCALENDAR
