BEGIN:VCALENDAR
VERSION:2.0
PRODID:-//ChamberMaster//Event Calendar 2.0//EN
METHOD:PUBLISH
X-PUBLISHED-TTL:P3D
REFRESH-INTERVAL:P3D
CALSCALE:GREGORIAN
BEGIN:VEVENT
DTSTART:20221105T230000Z
DTEND:20221106T040000Z
X-MICROSOFT-CDO-ALLDAYEVENT:FALSE
SUMMARY:Flannel Fest 2022
DESCRIPTION:Flannel Fest has become an annual celebration of local\, regional\, and national Americana music. Bust out your favorite flannel attire and join the fall-inspired party with some of Wisconsin's most talented and decorated Wisco-Americana artists as well as artists from across the country. We are once again pleased to partner with Keep Wisconsin Warm/Cool Fund\, the non-profit benefactor of Flannel Fest. The Keep Wisconsin Warm/Cool Fund (KWW/CF) is a statewide non-profit charitable effort that steps in and keeps the heat and power on for thousands of elderly\, people with disabilities\, veterans\, and working families with young children in crisis. As a result of generous public\, private\, business\, and individual support\, KWW/CF provides preventative services and the financial assistance necessary to avert energy-related crisis situations. The KWW/CF provides the only safety net that keeps those most in need safely in their homes.\n\n\n\n"Thank you Flannel Fest for your support. It made such a difference in keeping the heat and power on for so many in need in our community. We are very much looking forward to this year's event."\n\nTim Bruer\, Director of Keep Wisconsin Warm/Cool Fund\n\n\n\nFunk's Pub will be offering a limited menu for the event\, so come hungry!\n\nSCHEDULE:\n\n4 On The Floor   10:15-11:30pm\n\nThe Mascot Theory   9-10pm\n\nBeth Kille Band   8-8:45pm\n\nBascom Hill   7-7:45pm\n\nNatural Satellite   6-6:45pm
X-ALT-DESC;FMTTYPE=text/html:Flannel Fest has become an annual celebration of local\, regional\, and national Americana music. Bust out your favorite flannel attire and join the fall-inspired party with some of Wisconsin&#39\;s most talented and decorated Wisco-Americana artists as well as artists from across the country. We are once again pleased to partner with Keep Wisconsin Warm/Cool Fund\, the non-profit benefactor of Flannel Fest. The Keep Wisconsin Warm/Cool Fund (KWW/CF) is a statewide non-profit charitable effort that steps in and keeps the heat and power on for thousands of elderly\, people with disabilities\, veterans\, and working families with young children in crisis. As a result of generous public\, private\, business\, and individual support\, KWW/CF provides preventative services and the financial assistance necessary to avert energy-related crisis situations. The KWW/CF provides the only safety net that keeps those most in need safely in their homes.<br />\n<br />\n&quot\;Thank you Flannel Fest for your support. It made such a difference in keeping the heat and power on for so many in need in our community. We are very much looking forward to this year&#39\;s event.&quot\;<br />\nTim Bruer\, Director of Keep Wisconsin Warm/Cool Fund<br />\n<br />\nFunk&#39\;s Pub will be offering a limited menu for the event\, so come hungry!<br />\nSCHEDULE:<br />\n4 On The Floor &bull\; 10:15-11:30pm<br />\nThe Mascot Theory &bull\; 9-10pm<br />\nBeth Kille Band &bull\; 8-8:45pm<br />\nBascom Hill &bull\; 7-7:45pm<br />\nNatural Satellite &bull\; 6-6:45pm
LOCATION:Funk's Pub 5956 Executive Drive\, Fitchburg
UID:e.1970.2080
SEQUENCE:3
DTSTAMP:20260422T121731Z
URL:https://business.fitchburgchamber.com/events/details/flannel-fest-2022-2080
END:VEVENT

END:VCALENDAR
